BEGIN:VCALENDAR
VERSION:2.0
X-WR-CALNAME:EventsCalendar
CALSCALE:GREGORIAN
BEGIN:VTIMEZONE
TZID:America/Chicago
LAST-MODIFIED:20231222T233358Z
TZURL:https://www.tzurl.org/zoneinfo-outlook/America/Chicago
X-LIC-LOCATION:America/Chicago
BEGIN:DAYLIGHT
TZNAME:CDT
TZOFFSETFROM:-0600
TZOFFSETTO:-0500
DTSTART:19700308T020000
RRULE:FREQ=YEARLY;BYMONTH=3;BYDAY=2SU
END:DAYLIGHT
BEGIN:STANDARD
TZNAME:CST
TZOFFSETFROM:-0500
TZOFFSETTO:-0600
DTSTART:19701101T020000
RRULE:FREQ=YEARLY;BYMONTH=11;BYDAY=1SU
END:STANDARD
END:VTIMEZONE
BEGIN:VEVENT
CATEGORIES:Category,Seminars and Speakers,Location,West Dallas Center,Tag,Community Relations and Solutions
DESCRIPTION:Unlock smarter strategies, measurable impact and real results. Join this hands-on workshop to build a future-ready strategic plan using AI tools, collaborative work groups and ROI-driven frameworks. Walk away with a customized planning toolkit designed to elevate your organization&amp;rsquo;s performance. Why Attend? Strengthen organizational alignment Improve decision-making Maximize impact and demonstrate ROI Ideal for leaders, planners and changemakers ready to turn strategy into success. Knowledge Experts: Dr. Adrienne Thompson (Dallas College - Senior Director) and Dr. Ricardo Rodriguez (Dallas College - Assistant Director of Advancement Integration) Space is limited &amp;mdash; register now for &quot;Smarter Strategic Planning With AI&quot; to secure your spot! Eligible for CEU credit upon session completion.148352
DTSTAMP:20260422T181041
DTSTART;TZID=America/Chicago:20251030T090000
DTEND;TZID=America/Chicago:20251030T160000
LOCATION:West Dallas Center
SUMMARY;LANGUAGE=en-us:Smarter Strategic Planning With AI
UID:c709f3867b51e379c6723543109fe26f@www.dallascollege.edu
END:VEVENT
END:VCALENDAR
