BEGIN:VCALENDAR
VERSION:2.0
X-WR-CALNAME:EventsCalendar
CALSCALE:GREGORIAN
BEGIN:VTIMEZONE
TZID:America/Chicago
LAST-MODIFIED:20231222T233358Z
TZURL:https://www.tzurl.org/zoneinfo-outlook/America/Chicago
X-LIC-LOCATION:America/Chicago
BEGIN:DAYLIGHT
TZNAME:CDT
TZOFFSETFROM:-0600
TZOFFSETTO:-0500
DTSTART:19700308T020000
RRULE:FREQ=YEARLY;BYMONTH=3;BYDAY=2SU
END:DAYLIGHT
BEGIN:STANDARD
TZNAME:CST
TZOFFSETFROM:-0500
TZOFFSETTO:-0600
DTSTART:19701101T020000
RRULE:FREQ=YEARLY;BYMONTH=11;BYDAY=1SU
END:STANDARD
END:VTIMEZONE
BEGIN:VEVENT
CATEGORIES:Category,Seminars and Speakers,Location,Irving Center,Tag,Community Relations and Solutions
DESCRIPTION:Strengthen your message. Amplify your mission. Save time with smart tools. This hands-on session will help you craft compelling messages, engage diverse audiences and build a strategic communications plan using modern, digital tools. What You&#039;ll Learn: Create clear, effective messages Reach and engage the right audience Tell your story with impact Plan and track your communications What You&#039;ll Take Away: A ready-to-use Strategic Communications Toolkit Knowledge Expert: Amanda Sargent (Dallas College, Director &amp;ndash; External Affairs)&amp;nbsp; Space is limited &amp;mdash; register now for &quot;Digital-Driven Communications for Impact&quot; to secure your spot and take your communications to the next level! Eligible for CEU credit upon session completion.148357
DTSTAMP:20260422T231535
DTSTART;TZID=America/Chicago:20251113T090000
DTEND;TZID=America/Chicago:20251113T160000
LOCATION:Irving Center
SUMMARY;LANGUAGE=en-us:Digital-Driven Communications for Impact
UID:fa7ebf28bbc4b4f2229a7db062c7c448@www.dallascollege.edu
END:VEVENT
END:VCALENDAR
