BEGIN:VCALENDAR
VERSION:2.0
X-WR-CALNAME:EventsCalendar
CALSCALE:GREGORIAN
BEGIN:VTIMEZONE
TZID:America/Chicago
LAST-MODIFIED:20231222T233358Z
TZURL:https://www.tzurl.org/zoneinfo-outlook/America/Chicago
X-LIC-LOCATION:America/Chicago
BEGIN:DAYLIGHT
TZNAME:CDT
TZOFFSETFROM:-0600
TZOFFSETTO:-0500
DTSTART:19700308T020000
RRULE:FREQ=YEARLY;BYMONTH=3;BYDAY=2SU
END:DAYLIGHT
BEGIN:STANDARD
TZNAME:CST
TZOFFSETFROM:-0500
TZOFFSETTO:-0600
DTSTART:19701101T020000
RRULE:FREQ=YEARLY;BYMONTH=11;BYDAY=1SU
END:STANDARD
END:VTIMEZONE
BEGIN:VEVENT
CATEGORIES:Category,Seminars and Speakers,Location,Online,Tag,Community Relations and Solutions
DESCRIPTION:Lead with impact &amp;mdash; even without a title. This session is designed for leaders who are ready to inspire action, build trust and rally support &amp;mdash; all without formal authority. Whether you&#039;re guiding a team, mobilizing volunteers or driving community change, you&#039;ll gain practical tools to lead confidently and effectively from wherever you stand. What You&#039;ll Learn: Lead with influence Motivate teams and volunteers Build trust and shared goals Handle pushback and drive collaboration What You&#039;ll Take Away: Your own influence map Practical leadership tips Confidence to lead with purpose Knowledge Expert: Dr. Solomon Tention, Morgan State University, Advanced Studies - Leadership and Policy Join this virtual event on Microsoft Teams.&amp;nbsp; &amp;nbsp; &amp;nbsp; &amp;nbsp; &amp;nbsp; &amp;nbsp; &amp;nbsp; &amp;nbsp; &amp;nbsp; &amp;nbsp; &amp;nbsp; &amp;nbsp; &amp;nbsp; &amp;nbsp; &amp;nbsp; &amp;nbsp; &amp;nbsp;148361
DTSTAMP:20260422T233014
DTSTART;TZID=America/Chicago:20251202T093000
DTEND;TZID=America/Chicago:20251202T110000
LOCATION:Online
SUMMARY;LANGUAGE=en-us:Influence Without Authority: Mobilizing Teams, Volunteers and Partners
UID:b260816d0105c5adae571d1d7ad70a88@www.dallascollege.edu
END:VEVENT
END:VCALENDAR
