BEGIN:VCALENDAR
VERSION:2.0
X-WR-CALNAME:EventsCalendar
CALSCALE:GREGORIAN
BEGIN:VTIMEZONE
TZID:America/Chicago
LAST-MODIFIED:20231222T233358Z
TZURL:https://www.tzurl.org/zoneinfo-outlook/America/Chicago
X-LIC-LOCATION:America/Chicago
BEGIN:DAYLIGHT
TZNAME:CDT
TZOFFSETFROM:-0600
TZOFFSETTO:-0500
DTSTART:19700308T020000
RRULE:FREQ=YEARLY;BYMONTH=3;BYDAY=2SU
END:DAYLIGHT
BEGIN:STANDARD
TZNAME:CST
TZOFFSETFROM:-0500
TZOFFSETTO:-0600
DTSTART:19701101T020000
RRULE:FREQ=YEARLY;BYMONTH=11;BYDAY=1SU
END:STANDARD
END:VTIMEZONE
BEGIN:VEVENT
CATEGORIES:Category,Student Life,Location,El Centro,Tag,SPACE Events
DESCRIPTION:El Centro Campus- B100 The Great Escape from StressAn Orbit Talk in collaboration with CAPS Join us for The Great Escape from Stress, an engaging and supportive Orbit Talk designed to help students identify common sources of stress and discover practical strategies to manage it effectively. This event will promote well-being and resilience through open discussion, guided reflection, and expert insight. We&amp;rsquo;re excited to welcome Ms. Cherrender Haynes, MA, LPC-S, a licensed professional counselor and guest speaker from Counseling and Psychological Services (CAPS), who will share valuable tools for reducing stress and fostering mental wellness.148362
DTSTAMP:20260422T181511
DTSTART;TZID=America/Chicago:20251008T110000
DTEND;TZID=America/Chicago:20251008T140000
LOCATION:El Centro
SUMMARY;LANGUAGE=en-us:SPACE: The Great Escape from Stress
UID:ac42299b307bf51388a92ea18041953e@www.dallascollege.edu
END:VEVENT
END:VCALENDAR
