BEGIN:VCALENDAR
VERSION:2.0
X-WR-CALNAME:EventsCalendar
CALSCALE:GREGORIAN
BEGIN:VTIMEZONE
TZID:America/Chicago
LAST-MODIFIED:20231222T233358Z
TZURL:https://www.tzurl.org/zoneinfo-outlook/America/Chicago
X-LIC-LOCATION:America/Chicago
BEGIN:DAYLIGHT
TZNAME:CDT
TZOFFSETFROM:-0600
TZOFFSETTO:-0500
DTSTART:19700308T020000
RRULE:FREQ=YEARLY;BYMONTH=3;BYDAY=2SU
END:DAYLIGHT
BEGIN:STANDARD
TZNAME:CST
TZOFFSETFROM:-0500
TZOFFSETTO:-0600
DTSTART:19701101T020000
RRULE:FREQ=YEARLY;BYMONTH=11;BYDAY=1SU
END:STANDARD
END:VTIMEZONE
BEGIN:VEVENT
CATEGORIES:Category,Events,Location,Eastfield,Tag,Support Programs
DESCRIPTION:Join the Support Programs Department as we celebrate the end of the semester! This is a space to relax, reflect and connect with peers and staff as we close out the term together. Come as you are &amp;mdash; whether it&amp;rsquo;s to socialize, recharge or just be in community. Light refreshments and good vibes provided! Location: Eastfield, B1102 148547
DTSTAMP:20260422T201832
DTSTART;TZID=America/Chicago:20251203T120000
DTEND;TZID=America/Chicago:20251203T130000
LOCATION:Eastfield
SUMMARY;LANGUAGE=en-us:End of Year Celebration (Eastfield)
UID:4e2feabf977f3bbf1834878599b2b73d@www.dallascollege.edu
END:VEVENT
END:VCALENDAR
