BEGIN:VCALENDAR
VERSION:2.0
X-WR-CALNAME:EventsCalendar
CALSCALE:GREGORIAN
BEGIN:VTIMEZONE
TZID:America/Chicago
LAST-MODIFIED:20231222T233358Z
TZURL:https://www.tzurl.org/zoneinfo-outlook/America/Chicago
X-LIC-LOCATION:America/Chicago
BEGIN:DAYLIGHT
TZNAME:CDT
TZOFFSETFROM:-0600
TZOFFSETTO:-0500
DTSTART:19700308T020000
RRULE:FREQ=YEARLY;BYMONTH=3;BYDAY=2SU
END:DAYLIGHT
BEGIN:STANDARD
TZNAME:CST
TZOFFSETFROM:-0500
TZOFFSETTO:-0600
DTSTART:19701101T020000
RRULE:FREQ=YEARLY;BYMONTH=11;BYDAY=1SU
END:STANDARD
END:VTIMEZONE
BEGIN:VEVENT
CATEGORIES:Category,Special Events,Category,Student Life,Location,Richland,Tag,Military-Connected Services,Tag,Military-Connected Student Week
DESCRIPTION:Dallas College salutes veterans. Join us for the Veterans Resource Fair to learn about military-connected programs, resources and services. Learn veteran-related programs and services at Dallas College, and explore booths from veteran-focused vendors. Location: Richland Campus, Sabine Hall&amp;nbsp; Register Now! Did you know that as a veteran, you and your family can receive: Free medical and mental health care Counseling and Psychological Services (CAPS) Housing and Urban Development (HUD) - Veterans Affairs Supportive Housing (HUD-VASH) and HUD&amp;rsquo;s Housing Choice Voucher (HCV) rental assistance for homeless veterans College credit for military training Other military-connected resources Connect with vendors and get your questions answered: Vendors and Resources A complete list of vendors will be announced soon. Dallas College Services Military-Connected Services Dallas College Alumni Association Admissions TRIO WorkReadyU Accessibility Services 148608
DTSTAMP:20260422T150641
DTSTART;TZID=America/Chicago:20251103T103000
DTEND;TZID=America/Chicago:20251103T150000
LOCATION:Richland
SUMMARY;LANGUAGE=en-us:Veterans Resource Fair 2025
UID:fcefc58768517e7727da28c603d3af5e@www.dallascollege.edu
END:VEVENT
END:VCALENDAR
