BEGIN:VCALENDAR
VERSION:2.0
X-WR-CALNAME:EventsCalendar
CALSCALE:GREGORIAN
BEGIN:VTIMEZONE
TZID:America/Chicago
LAST-MODIFIED:20231222T233358Z
TZURL:https://www.tzurl.org/zoneinfo-outlook/America/Chicago
X-LIC-LOCATION:America/Chicago
BEGIN:DAYLIGHT
TZNAME:CDT
TZOFFSETFROM:-0600
TZOFFSETTO:-0500
DTSTART:19700308T020000
RRULE:FREQ=YEARLY;BYMONTH=3;BYDAY=2SU
END:DAYLIGHT
BEGIN:STANDARD
TZNAME:CST
TZOFFSETFROM:-0500
TZOFFSETTO:-0600
DTSTART:19701101T020000
RRULE:FREQ=YEARLY;BYMONTH=11;BYDAY=1SU
END:STANDARD
END:VTIMEZONE
BEGIN:VEVENT
CATEGORIES:Category,Other,Location,All Seven Campuses,Tag,Domestic Violence Awareness Month
DESCRIPTION:During Domestic Violence Awareness Month, volunteers will be collecting donations of new baby supplies at all seven Dallas College campuses. Donations will be shared with The Family Place Genesis Women&amp;rsquo;s Shelter and Mosaic Family Violence Shelter.&amp;nbsp; What To Donate: diapers bottles bibs onesies and other baby clothing other supplies a new parent may need Where To Donate: Each Tuesday and Thursday in October, student-athletes and Dallas College employees will staff tables on each campus between 11 a.m. and 1 p.m. Stop by to drop off your donations. Donation bins will also be located at each campus Information Central, Athletics Office (except El Centro) and selected athletic events. This event is being sponsored by our student-athletes and staff from Dallas College Athletics, Title IX, CAASA (College Alliance Against Sexual Assault), CAPS (Counseling and Psychological Services) and Information Central as part of Dallas College&#039;s 2025 Domestic Violence Awareness Month (#DVAM25) programming.148661
DTSTAMP:20260422T201042
DTSTART;TZID=America/Chicago:20251007T110000
DTEND;TZID=America/Chicago:20251007T130000
LOCATION:All Seven Campuses
SUMMARY;LANGUAGE=en-us:Baby Supply Drive
UID:89f3e389205d621413eea5faafb1c7c0@www.dallascollege.edu
END:VEVENT
BEGIN:VEVENT
CATEGORIES:Category,Other,Location,All Seven Campuses,Tag,Domestic Violence Awareness Month
DESCRIPTION:During Domestic Violence Awareness Month, volunteers will be collecting donations of new baby supplies at all seven Dallas College campuses. Donations will be shared with The Family Place Genesis Women&amp;rsquo;s Shelter and Mosaic Family Violence Shelter.&amp;nbsp; What To Donate: diapers bottles bibs onesies and other baby clothing other supplies a new parent may need Where To Donate: Each Tuesday and Thursday in October, student-athletes and Dallas College employees will staff tables on each campus between 11 a.m. and 1 p.m. Stop by to drop off your donations. Donation bins will also be located at each campus Information Central, Athletics Office (except El Centro) and selected athletic events. This event is being sponsored by our student-athletes and staff from Dallas College Athletics, Title IX, CAASA (College Alliance Against Sexual Assault), CAPS (Counseling and Psychological Services) and Information Central as part of Dallas College&#039;s 2025 Domestic Violence Awareness Month (#DVAM25) programming.148661
DTSTAMP:20260422T201042
DTSTART;TZID=America/Chicago:20251014T110000
DTEND;TZID=America/Chicago:20251014T130000
LOCATION:All Seven Campuses
SUMMARY;LANGUAGE=en-us:Baby Supply Drive
UID:be12d71d2d4b65807b10ba5f77b90882@www.dallascollege.edu
END:VEVENT
BEGIN:VEVENT
CATEGORIES:Category,Other,Location,All Seven Campuses,Tag,Domestic Violence Awareness Month
DESCRIPTION:During Domestic Violence Awareness Month, volunteers will be collecting donations of new baby supplies at all seven Dallas College campuses. Donations will be shared with The Family Place Genesis Women&amp;rsquo;s Shelter and Mosaic Family Violence Shelter.&amp;nbsp; What To Donate: diapers bottles bibs onesies and other baby clothing other supplies a new parent may need Where To Donate: Each Tuesday and Thursday in October, student-athletes and Dallas College employees will staff tables on each campus between 11 a.m. and 1 p.m. Stop by to drop off your donations. Donation bins will also be located at each campus Information Central, Athletics Office (except El Centro) and selected athletic events. This event is being sponsored by our student-athletes and staff from Dallas College Athletics, Title IX, CAASA (College Alliance Against Sexual Assault), CAPS (Counseling and Psychological Services) and Information Central as part of Dallas College&#039;s 2025 Domestic Violence Awareness Month (#DVAM25) programming.148661
DTSTAMP:20260422T201042
DTSTART;TZID=America/Chicago:20251021T110000
DTEND;TZID=America/Chicago:20251021T130000
LOCATION:All Seven Campuses
SUMMARY;LANGUAGE=en-us:Baby Supply Drive
UID:399eebc46d1b48bf23ac296eaa784b31@www.dallascollege.edu
END:VEVENT
BEGIN:VEVENT
CATEGORIES:Category,Other,Location,All Seven Campuses,Tag,Domestic Violence Awareness Month
DESCRIPTION:During Domestic Violence Awareness Month, volunteers will be collecting donations of new baby supplies at all seven Dallas College campuses. Donations will be shared with The Family Place Genesis Women&amp;rsquo;s Shelter and Mosaic Family Violence Shelter.&amp;nbsp; What To Donate: diapers bottles bibs onesies and other baby clothing other supplies a new parent may need Where To Donate: Each Tuesday and Thursday in October, student-athletes and Dallas College employees will staff tables on each campus between 11 a.m. and 1 p.m. Stop by to drop off your donations. Donation bins will also be located at each campus Information Central, Athletics Office (except El Centro) and selected athletic events. This event is being sponsored by our student-athletes and staff from Dallas College Athletics, Title IX, CAASA (College Alliance Against Sexual Assault), CAPS (Counseling and Psychological Services) and Information Central as part of Dallas College&#039;s 2025 Domestic Violence Awareness Month (#DVAM25) programming.148661
DTSTAMP:20260422T201042
DTSTART;TZID=America/Chicago:20251028T110000
DTEND;TZID=America/Chicago:20251028T130000
LOCATION:All Seven Campuses
SUMMARY;LANGUAGE=en-us:Baby Supply Drive
UID:8179563551af2217b6a523e9fcd39933@www.dallascollege.edu
END:VEVENT
END:VCALENDAR
