BEGIN:VCALENDAR
VERSION:2.0
X-WR-CALNAME:EventsCalendar
CALSCALE:GREGORIAN
BEGIN:VTIMEZONE
TZID:America/Chicago
LAST-MODIFIED:20231222T233358Z
TZURL:https://www.tzurl.org/zoneinfo-outlook/America/Chicago
X-LIC-LOCATION:America/Chicago
BEGIN:DAYLIGHT
TZNAME:CDT
TZOFFSETFROM:-0600
TZOFFSETTO:-0500
DTSTART:19700308T020000
RRULE:FREQ=YEARLY;BYMONTH=3;BYDAY=2SU
END:DAYLIGHT
BEGIN:STANDARD
TZNAME:CST
TZOFFSETFROM:-0500
TZOFFSETTO:-0600
DTSTART:19701101T020000
RRULE:FREQ=YEARLY;BYMONTH=11;BYDAY=1SU
END:STANDARD
END:VTIMEZONE
BEGIN:VEVENT
CATEGORIES:Category,Special Events,Category,Student Life,Location,North Lake,Tag,Intercultural/Global Events ,Tag,International Education Week
DESCRIPTION:Get ready to travel the world without leaving campus! World Fest is your chance to explore different cultures through food, music and performances. Check out cool crafts, try tasty international snacks and join fun workshops. Dance, laugh and learn with friends while celebrating our amazing communities. World Fest is for everyone and guaranteed to be a day full of fun and new experiences!&amp;nbsp; Location: North Lake, Room H200148721
DTSTAMP:20260423T023840
DTSTART;TZID=America/Chicago:20251119T090000
DTEND;TZID=America/Chicago:20251119T140000
LOCATION:North Lake
SUMMARY;LANGUAGE=en-us:World Fest
UID:fd7f427a894c6a1e2da7b6654918ca44@www.dallascollege.edu
END:VEVENT
END:VCALENDAR
