BEGIN:VCALENDAR
VERSION:2.0
X-WR-CALNAME:EventsCalendar
CALSCALE:GREGORIAN
BEGIN:VTIMEZONE
TZID:America/Chicago
LAST-MODIFIED:20231222T233358Z
TZURL:https://www.tzurl.org/zoneinfo-outlook/America/Chicago
X-LIC-LOCATION:America/Chicago
BEGIN:DAYLIGHT
TZNAME:CDT
TZOFFSETFROM:-0600
TZOFFSETTO:-0500
DTSTART:19700308T020000
RRULE:FREQ=YEARLY;BYMONTH=3;BYDAY=2SU
END:DAYLIGHT
BEGIN:STANDARD
TZNAME:CST
TZOFFSETFROM:-0500
TZOFFSETTO:-0600
DTSTART:19701101T020000
RRULE:FREQ=YEARLY;BYMONTH=11;BYDAY=1SU
END:STANDARD
END:VTIMEZONE
BEGIN:VEVENT
CATEGORIES:Category,Student Life,Location,Eastfield,Location,El Centro,Location,North Lake,Location,Richland,Tag,Intercultural/Global Events ,Tag,International Education Week
DESCRIPTION:Come join faculty, staff, students and community members as we all share our international travel or study abroad stories and experiences while enjoying coffee, tea and light refreshments. &amp;nbsp; Locations:&amp;nbsp; Eastfield Campus, The Hive El Centro Campus, Room B269 North Lake Campus, Room H200/H237 Richland Campus, Room SH117 148723
DTSTAMP:20260422T181955
DTSTART;TZID=America/Chicago:20251120T113000
DTEND;TZID=America/Chicago:20251120T130000
LOCATION:Eastfield, El Centro, North Lake, Richland
SUMMARY;LANGUAGE=en-us:Casual Café - “Sips and Stories”
UID:ae10d5a24f16298f6be913cc35d5ecb7@www.dallascollege.edu
END:VEVENT
END:VCALENDAR
