BEGIN:VCALENDAR
VERSION:2.0
X-WR-CALNAME:EventsCalendar
CALSCALE:GREGORIAN
BEGIN:VTIMEZONE
TZID:America/Chicago
LAST-MODIFIED:20231222T233358Z
TZURL:https://www.tzurl.org/zoneinfo-outlook/America/Chicago
X-LIC-LOCATION:America/Chicago
BEGIN:DAYLIGHT
TZNAME:CDT
TZOFFSETFROM:-0600
TZOFFSETTO:-0500
DTSTART:19700308T020000
RRULE:FREQ=YEARLY;BYMONTH=3;BYDAY=2SU
END:DAYLIGHT
BEGIN:STANDARD
TZNAME:CST
TZOFFSETFROM:-0500
TZOFFSETTO:-0600
DTSTART:19701101T020000
RRULE:FREQ=YEARLY;BYMONTH=11;BYDAY=1SU
END:STANDARD
END:VTIMEZONE
BEGIN:VEVENT
CATEGORIES:Category,Student Life,Location,Culinary, Pastry and Hospitality Center,Tag,Intercultural/Global Events ,Tag,International Education Week
DESCRIPTION:All Dallas College students are invited to participate in an elevated etiquette lunch designed to prepare you for professional dining in multicultural and international settings. Timed around Thanksgiving, the lunch will also explore global traditions of gratitude, hospitality and professionalism at the table.&amp;nbsp; Topics will include:&amp;nbsp; Western dining norms international etiquette conversation tips tipping in a business setting cultural customs professional presentation Please register by Nov. 7 for the etiquette lunch. Transportation will be provided from: Brookhaven Campus, Room S247 North Lake Campus, Room A418 Richland Campus, Room T150 148725
DTSTAMP:20260423T023625
DTSTART;TZID=America/Chicago:20251121T100000
DTEND;TZID=America/Chicago:20251121T140000
LOCATION:Culinary, Pastry and Hospitality Center
SUMMARY;LANGUAGE=en-us:Seated for Success: Etiquette Lunch
UID:67eb40b93f09b62431fe3d7e420190b0@www.dallascollege.edu
END:VEVENT
END:VCALENDAR
