BEGIN:VCALENDAR
VERSION:2.0
X-WR-CALNAME:EventsCalendar
CALSCALE:GREGORIAN
BEGIN:VTIMEZONE
TZID:America/Chicago
LAST-MODIFIED:20231222T233358Z
TZURL:https://www.tzurl.org/zoneinfo-outlook/America/Chicago
X-LIC-LOCATION:America/Chicago
BEGIN:DAYLIGHT
TZNAME:CDT
TZOFFSETFROM:-0600
TZOFFSETTO:-0500
DTSTART:19700308T020000
RRULE:FREQ=YEARLY;BYMONTH=3;BYDAY=2SU
END:DAYLIGHT
BEGIN:STANDARD
TZNAME:CST
TZOFFSETFROM:-0500
TZOFFSETTO:-0600
DTSTART:19701101T020000
RRULE:FREQ=YEARLY;BYMONTH=11;BYDAY=1SU
END:STANDARD
END:VTIMEZONE
BEGIN:VEVENT
CATEGORIES:Category,Seminars and Speakers,Location,All Seven Campuses,Tag,Learning Commons ,Tag,Student Resources
DESCRIPTION:This guided lesson explores the student experience through the lens of Abraham Maslow&#039;s Hierarchy of Needs. In this workshop, we will invite you to brainstorm how to navigate challenges and direct you to resources. Register&amp;nbsp;today! Locations: Brookhaven - L376 Cedar Valley - C104 Eastfield - L208 El Centro - B209 Mountain View - W145 North Lake - L236 Richland - L126148875
DTSTAMP:20260422T182236
DTSTART;TZID=America/Chicago:20251110T110000
DTEND;TZID=America/Chicago:20251110T120000
LOCATION:All Seven Campuses
SUMMARY;LANGUAGE=en-us:Level Up Your College Journey - Where Am I Now?
UID:e40814bf52c05723f5342de0570b3d2e@www.dallascollege.edu
END:VEVENT
BEGIN:VEVENT
CATEGORIES:Category,Seminars and Speakers,Location,All Seven Campuses,Tag,Learning Commons ,Tag,Student Resources
DESCRIPTION:This guided lesson explores the student experience through the lens of Abraham Maslow&#039;s Hierarchy of Needs. In this workshop, we will invite you to brainstorm how to navigate challenges and direct you to resources. Register&amp;nbsp;today! Locations: Brookhaven - L376 Cedar Valley - C104 Eastfield - L208 El Centro - B209 Mountain View - W145 North Lake - L236 Richland - L126148875
DTSTAMP:20260422T182236
DTSTART;TZID=America/Chicago:20251113T110000
DTEND;TZID=America/Chicago:20251113T120000
LOCATION:All Seven Campuses
SUMMARY;LANGUAGE=en-us:Level Up Your College Journey - Where Am I Now?
UID:334e56251faff89d4b5c99324d6ccb2e@www.dallascollege.edu
END:VEVENT
BEGIN:VEVENT
CATEGORIES:Category,Seminars and Speakers,Location,All Seven Campuses,Tag,Learning Commons ,Tag,Student Resources
DESCRIPTION:This guided lesson explores the student experience through the lens of Abraham Maslow&#039;s Hierarchy of Needs. In this workshop, we will invite you to brainstorm how to navigate challenges and direct you to resources. Register&amp;nbsp;today! Locations: Brookhaven - L376 Cedar Valley - C104 Eastfield - L208 El Centro - B209 Mountain View - W145 North Lake - L236 Richland - L126148875
DTSTAMP:20260422T182236
DTSTART;TZID=America/Chicago:20251113T180000
DTEND;TZID=America/Chicago:20251113T190000
LOCATION:All Seven Campuses
SUMMARY;LANGUAGE=en-us:Level Up Your College Journey - Where Am I Now?
UID:5016a3dd826527caaaba97e9ef240f14@www.dallascollege.edu
END:VEVENT
END:VCALENDAR
