BEGIN:VCALENDAR
VERSION:2.0
X-WR-CALNAME:EventsCalendar
CALSCALE:GREGORIAN
BEGIN:VTIMEZONE
TZID:America/Chicago
LAST-MODIFIED:20231222T233358Z
TZURL:https://www.tzurl.org/zoneinfo-outlook/America/Chicago
X-LIC-LOCATION:America/Chicago
BEGIN:DAYLIGHT
TZNAME:CDT
TZOFFSETFROM:-0600
TZOFFSETTO:-0500
DTSTART:19700308T020000
RRULE:FREQ=YEARLY;BYMONTH=3;BYDAY=2SU
END:DAYLIGHT
BEGIN:STANDARD
TZNAME:CST
TZOFFSETFROM:-0500
TZOFFSETTO:-0600
DTSTART:19701101T020000
RRULE:FREQ=YEARLY;BYMONTH=11;BYDAY=1SU
END:STANDARD
END:VTIMEZONE
BEGIN:VEVENT
CATEGORIES:Category,Student Life,Location,Brookhaven,Tag,SPACE Events
DESCRIPTION:Brookhaven Campus - S-003 What to Expect: A conversation with CAPS counselors about managing stress and practicing mindfulness Make &amp;amp; Take activity: Create your own calming jar and affirmation cards Option to gift your creations to other students as a kindness gesture Enjoy a glow-in-the-dark atmosphere and relaxing vibes! Let&amp;rsquo;s take a moment to recharge, reflect, and support one another. We can&amp;rsquo;t wait to see you there!149031
DTSTAMP:20260422T181347
DTSTART;TZID=America/Chicago:20251030T110000
DTEND;TZID=America/Chicago:20251030T130000
LOCATION:Brookhaven
SUMMARY;LANGUAGE=en-us:SPACE: Potions of Peace- Glow Edition
UID:d5a290f8c386607b361833ed9681665a@www.dallascollege.edu
END:VEVENT
END:VCALENDAR
