BEGIN:VCALENDAR
VERSION:2.0
X-WR-CALNAME:EventsCalendar
CALSCALE:GREGORIAN
BEGIN:VTIMEZONE
TZID:America/Chicago
LAST-MODIFIED:20231222T233358Z
TZURL:https://www.tzurl.org/zoneinfo-outlook/America/Chicago
X-LIC-LOCATION:America/Chicago
BEGIN:DAYLIGHT
TZNAME:CDT
TZOFFSETFROM:-0600
TZOFFSETTO:-0500
DTSTART:19700308T020000
RRULE:FREQ=YEARLY;BYMONTH=3;BYDAY=2SU
END:DAYLIGHT
BEGIN:STANDARD
TZNAME:CST
TZOFFSETFROM:-0500
TZOFFSETTO:-0600
DTSTART:19701101T020000
RRULE:FREQ=YEARLY;BYMONTH=11;BYDAY=1SU
END:STANDARD
END:VTIMEZONE
BEGIN:VEVENT
CATEGORIES:Category,Counseling and Psychological Services,Location,North Lake,Location,Online
DESCRIPTION:&amp;nbsp; Join CAPS for a mindful moment of meditation on a Monday. CAPS counselor Aubrey Webster will provide 1hr of guided mindfulness meditation.&amp;nbsp; Workshop will begin with short explanation of mindfulness and end with questions and short discussion.&amp;nbsp; Join in person or virtually.&amp;nbsp; Drop in when you can, can come late and leave early if needed.&amp;nbsp;&amp;nbsp; Location:&amp;nbsp; North Lake Campus - Room H226 and Virtual&amp;nbsp; This event is hosted by Dallas College Counseling and Psychological Services (CAPS). CAPS provides free mental health counseling services to Dallas College students. For questions or appointment requests, email Counseling@DallasCollege.edu. If you&#039;re interested in attending more CAPS events, visit DallasCollege.edu/CounselingEvents. Your world can be stressful - we&#039;re here to help. To meet our team of counselors, students can visit DallasCollege.edu/Counselors.149079
DTSTAMP:20260422T180621
DTSTART;TZID=America/Chicago:20251110T120000
DTEND;TZID=America/Chicago:20251110T130000
LOCATION:North Lake, Online
SUMMARY;LANGUAGE=en-us:Meditation Monday 11/10
UID:a7d165628ec0d6b8a769cb4ffbbc9416@www.dallascollege.edu
END:VEVENT
END:VCALENDAR
