BEGIN:VCALENDAR
VERSION:2.0
X-WR-CALNAME:EventsCalendar
CALSCALE:GREGORIAN
BEGIN:VTIMEZONE
TZID:America/Chicago
LAST-MODIFIED:20231222T233358Z
TZURL:https://www.tzurl.org/zoneinfo-outlook/America/Chicago
X-LIC-LOCATION:America/Chicago
BEGIN:DAYLIGHT
TZNAME:CDT
TZOFFSETFROM:-0600
TZOFFSETTO:-0500
DTSTART:19700308T020000
RRULE:FREQ=YEARLY;BYMONTH=3;BYDAY=2SU
END:DAYLIGHT
BEGIN:STANDARD
TZNAME:CST
TZOFFSETFROM:-0500
TZOFFSETTO:-0600
DTSTART:19701101T020000
RRULE:FREQ=YEARLY;BYMONTH=11;BYDAY=1SU
END:STANDARD
END:VTIMEZONE
BEGIN:VEVENT
CATEGORIES:Category,Seminars and Speakers,Location,Online,Tag,Domestic Violence Awareness Month
DESCRIPTION:Meha Srivastav, program manager, victim services, with MOSAIC Family Services, will lead a discussion regarding family violence and cultural context focusing on the AAPI/South Asian communities. This event is part of Dallas College&#039;s Domestic Violence Awareness Month (#DVAM25) programming. Register for this event on Microsoft Teams.149098
DTSTAMP:20260423T040632
DTSTART;TZID=America/Chicago:20251014T120000
DTEND;TZID=America/Chicago:20251014T130000
LOCATION:Online
SUMMARY;LANGUAGE=en-us:Cultural Humility With Domestic Violence Survivors
UID:bbd4992ff64aeffb29db4e441a4644d3@www.dallascollege.edu
END:VEVENT
END:VCALENDAR
