BEGIN:VCALENDAR
VERSION:2.0
X-WR-CALNAME:EventsCalendar
CALSCALE:GREGORIAN
BEGIN:VTIMEZONE
TZID:America/Chicago
LAST-MODIFIED:20231222T233358Z
TZURL:https://www.tzurl.org/zoneinfo-outlook/America/Chicago
X-LIC-LOCATION:America/Chicago
BEGIN:DAYLIGHT
TZNAME:CDT
TZOFFSETFROM:-0600
TZOFFSETTO:-0500
DTSTART:19700308T020000
RRULE:FREQ=YEARLY;BYMONTH=3;BYDAY=2SU
END:DAYLIGHT
BEGIN:STANDARD
TZNAME:CST
TZOFFSETFROM:-0500
TZOFFSETTO:-0600
DTSTART:19701101T020000
RRULE:FREQ=YEARLY;BYMONTH=11;BYDAY=1SU
END:STANDARD
END:VTIMEZONE
BEGIN:VEVENT
CATEGORIES:Category,Special Events,Location,All Seven Campuses,Tag,Learning Commons 
DESCRIPTION:The Learning Commons will be offering a variety of workshops that will enrich your skills and knowledge with hands-on sessions and interactive learning experiences. Workshop topics include mastering time management, leveraging technology, memorizing the unit circle, personal finance, public speaking, leadership development, and emotional intelligence. Workshop Locations: Brookhaven - L376 Cedar Valley - C104 Eastfield - L208 El Centro - B209 Mountain View - W145 North Lake - L236 Richland - L102.&amp;nbsp; 149106
DTSTAMP:20260422T200901
DTSTART;TZID=America/Chicago:20251022T100000
DTEND;TZID=America/Chicago:20251022T140000
LOCATION:All Seven Campuses
SUMMARY;LANGUAGE=en-us:Week of Workshops (WoW Week)
UID:c2935b430b4bcb3bdae93355c293a92d@www.dallascollege.edu
END:VEVENT
END:VCALENDAR
