BEGIN:VCALENDAR
VERSION:2.0
X-WR-CALNAME:EventsCalendar
CALSCALE:GREGORIAN
BEGIN:VTIMEZONE
TZID:America/Chicago
LAST-MODIFIED:20231222T233358Z
TZURL:https://www.tzurl.org/zoneinfo-outlook/America/Chicago
X-LIC-LOCATION:America/Chicago
BEGIN:DAYLIGHT
TZNAME:CDT
TZOFFSETFROM:-0600
TZOFFSETTO:-0500
DTSTART:19700308T020000
RRULE:FREQ=YEARLY;BYMONTH=3;BYDAY=2SU
END:DAYLIGHT
BEGIN:STANDARD
TZNAME:CST
TZOFFSETFROM:-0500
TZOFFSETTO:-0600
DTSTART:19701101T020000
RRULE:FREQ=YEARLY;BYMONTH=11;BYDAY=1SU
END:STANDARD
END:VTIMEZONE
BEGIN:VEVENT
CATEGORIES:Category,Other,Location,Online,Tag,International Admissions
DESCRIPTION:Are you an F-1 international student interested in transferring to Dallas College, or an international student looking to change your status to F-1? Join the International Admissions and Compliance team for our information session on what to expect as an F-1 student at Dallas College. Hear a brief introduction to Dallas College and find out what your next steps are after being admitted. We will also discuss programs offered, your responsibilities as an international student and resources available to you. This session is an opportunity to ask questions and connect with your designated school official (DSO), success coaches, college coaches and other international students. Join Session &amp;nbsp;149193
DTSTAMP:20260422T183522
DTSTART;TZID=America/Chicago:20260612T140000
DTEND;TZID=America/Chicago:20260612T153000
LOCATION:Online
SUMMARY;LANGUAGE=en-us:Information Session for Transfer or Change of Status F-1 International Students
UID:f72b5ac50806c42e787126218a971c98@www.dallascollege.edu
END:VEVENT
END:VCALENDAR
