BEGIN:VCALENDAR
VERSION:2.0
X-WR-CALNAME:EventsCalendar
CALSCALE:GREGORIAN
BEGIN:VTIMEZONE
TZID:America/Chicago
LAST-MODIFIED:20231222T233358Z
TZURL:https://www.tzurl.org/zoneinfo-outlook/America/Chicago
X-LIC-LOCATION:America/Chicago
BEGIN:DAYLIGHT
TZNAME:CDT
TZOFFSETFROM:-0600
TZOFFSETTO:-0500
DTSTART:19700308T020000
RRULE:FREQ=YEARLY;BYMONTH=3;BYDAY=2SU
END:DAYLIGHT
BEGIN:STANDARD
TZNAME:CST
TZOFFSETFROM:-0500
TZOFFSETTO:-0600
DTSTART:19701101T020000
RRULE:FREQ=YEARLY;BYMONTH=11;BYDAY=1SU
END:STANDARD
END:VTIMEZONE
BEGIN:VEVENT
CATEGORIES:Category,Other,Category,Student Life,Location,El Centro,Tag,Health and Well-Being Events
DESCRIPTION:Join us outside the El Centro Health Center for an energizing breast cancer awareness tabling event hosted by the Health Services and Promotion team! We&amp;rsquo;ll be sharing vital information, free resources, and ways to support early detection.&amp;nbsp; Location: El Centro Campus: A-270149206
DTSTAMP:20260422T232907
DTSTART;TZID=America/Chicago:20251021T110000
DTEND;TZID=America/Chicago:20251021T130000
LOCATION:El Centro
SUMMARY;LANGUAGE=en-us:Breast Cancer Awareness
UID:6df06662ad3f79263f7fe997e5d3c320@www.dallascollege.edu
END:VEVENT
END:VCALENDAR
