BEGIN:VCALENDAR
VERSION:2.0
X-WR-CALNAME:EventsCalendar
CALSCALE:GREGORIAN
BEGIN:VTIMEZONE
TZID:America/Chicago
LAST-MODIFIED:20231222T233358Z
TZURL:https://www.tzurl.org/zoneinfo-outlook/America/Chicago
X-LIC-LOCATION:America/Chicago
BEGIN:DAYLIGHT
TZNAME:CDT
TZOFFSETFROM:-0600
TZOFFSETTO:-0500
DTSTART:19700308T020000
RRULE:FREQ=YEARLY;BYMONTH=3;BYDAY=2SU
END:DAYLIGHT
BEGIN:STANDARD
TZNAME:CST
TZOFFSETFROM:-0500
TZOFFSETTO:-0600
DTSTART:19701101T020000
RRULE:FREQ=YEARLY;BYMONTH=11;BYDAY=1SU
END:STANDARD
END:VTIMEZONE
BEGIN:VEVENT
CATEGORIES:Category,Student Life,Location,Eastfield,Tag,Intercultural/Global Events ,Tag,Native American Heritage Month
DESCRIPTION:Join us at Dallas College for a powerful performance by Cara Mia Theater as they present &amp;ldquo;Ursula.&amp;rdquo; In this deeply moving play, Frida Espinosa M&amp;uuml;ller portrays more than 10 characters to tell the story of Nadia, a 7-year-old separated from her mother after seeking asylum at the U.S.-Mexico border. Using a unique blend of puppetry, music and movement, &amp;ldquo;Ursula&amp;rdquo; takes the audience inside Nadia&amp;rsquo;s emotional journey as she struggles to make sense of the confusion surrounding her. The play is primarily performed in Spanish with English subtitles Location: Eastfield Campus, Rooms S100/S101149242
DTSTAMP:20260422T233027
DTSTART;TZID=America/Chicago:20251119T120000
DTEND;TZID=America/Chicago:20251119T140000
LOCATION:Eastfield
SUMMARY;LANGUAGE=en-us:Cara Mia Theater: ‘Ursula’
UID:f55b2b4d0fed4c98136f9cc13190e03d@www.dallascollege.edu
END:VEVENT
END:VCALENDAR
