BEGIN:VCALENDAR
VERSION:2.0
X-WR-CALNAME:EventsCalendar
CALSCALE:GREGORIAN
BEGIN:VTIMEZONE
TZID:America/Chicago
LAST-MODIFIED:20231222T233358Z
TZURL:https://www.tzurl.org/zoneinfo-outlook/America/Chicago
X-LIC-LOCATION:America/Chicago
BEGIN:DAYLIGHT
TZNAME:CDT
TZOFFSETFROM:-0600
TZOFFSETTO:-0500
DTSTART:19700308T020000
RRULE:FREQ=YEARLY;BYMONTH=3;BYDAY=2SU
END:DAYLIGHT
BEGIN:STANDARD
TZNAME:CST
TZOFFSETFROM:-0500
TZOFFSETTO:-0600
DTSTART:19701101T020000
RRULE:FREQ=YEARLY;BYMONTH=11;BYDAY=1SU
END:STANDARD
END:VTIMEZONE
BEGIN:VEVENT
CATEGORIES:Category,Community,Location,Offsite,Tag,Military-Connected Services,Tag,Military-Connected Student Week
DESCRIPTION:Let&#039;s come together to support Feed My Starving Children. Location: Feed My Starving Children &amp;ndash; 1680 N Glenville Dr. Ste 300, Richardson, TX 75081149283
DTSTAMP:20260422T181514
DTSTART;TZID=America/Chicago:20251106T080000
DTEND;TZID=America/Chicago:20251106T131500
LOCATION:Offsite
SUMMARY;LANGUAGE=en-us:Support Programs Day of Service
UID:7c2a9134f9f7a2c87570118903318dd4@www.dallascollege.edu
END:VEVENT
END:VCALENDAR
