BEGIN:VCALENDAR
VERSION:2.0
X-WR-CALNAME:EventsCalendar
CALSCALE:GREGORIAN
BEGIN:VTIMEZONE
TZID:America/Chicago
LAST-MODIFIED:20231222T233358Z
TZURL:https://www.tzurl.org/zoneinfo-outlook/America/Chicago
X-LIC-LOCATION:America/Chicago
BEGIN:DAYLIGHT
TZNAME:CDT
TZOFFSETFROM:-0600
TZOFFSETTO:-0500
DTSTART:19700308T020000
RRULE:FREQ=YEARLY;BYMONTH=3;BYDAY=2SU
END:DAYLIGHT
BEGIN:STANDARD
TZNAME:CST
TZOFFSETFROM:-0500
TZOFFSETTO:-0600
DTSTART:19701101T020000
RRULE:FREQ=YEARLY;BYMONTH=11;BYDAY=1SU
END:STANDARD
END:VTIMEZONE
BEGIN:VEVENT
CATEGORIES:Category,Academic Calendar,Location,All Locations,Tag,Registration
DESCRIPTION:Returning students can register online beginning at 8 a.m. Current student registration continues through Sunday, Oct. 26. For more information, visit&amp;nbsp;DallasCollege.edu/Register.149300
DTSTAMP:20260422T182047
DTSTART;TZID=America/Chicago:20251020T080000
DTEND;TZID=America/Chicago:20251020T235900
LOCATION:All Locations
SUMMARY;LANGUAGE=en-us:Current Student Registration Begins for Winter and Spring Credit Classes
UID:e3a4ff10b04f4608d0d836db013b2fc4@www.dallascollege.edu
END:VEVENT
END:VCALENDAR
