BEGIN:VCALENDAR
VERSION:2.0
X-WR-CALNAME:EventsCalendar
CALSCALE:GREGORIAN
BEGIN:VTIMEZONE
TZID:America/Chicago
LAST-MODIFIED:20231222T233358Z
TZURL:https://www.tzurl.org/zoneinfo-outlook/America/Chicago
X-LIC-LOCATION:America/Chicago
BEGIN:DAYLIGHT
TZNAME:CDT
TZOFFSETFROM:-0600
TZOFFSETTO:-0500
DTSTART:19700308T020000
RRULE:FREQ=YEARLY;BYMONTH=3;BYDAY=2SU
END:DAYLIGHT
BEGIN:STANDARD
TZNAME:CST
TZOFFSETFROM:-0500
TZOFFSETTO:-0600
DTSTART:19701101T020000
RRULE:FREQ=YEARLY;BYMONTH=11;BYDAY=1SU
END:STANDARD
END:VTIMEZONE
BEGIN:VEVENT
CATEGORIES:Category,Academic Calendar,Location,All Locations,Tag,Registration
DESCRIPTION:Current student registration (for returning students) will be available Monday, Oct. 20, through Sunday, Oct. 26. For more information, visit&amp;nbsp;DallasCollege.edu/Register.149302
DTSTAMP:20260422T181417
DTSTART;TZID=America/Chicago:20251021T000000
DTEND;TZID=America/Chicago:20251021T235900
LOCATION:All Locations
SUMMARY;LANGUAGE=en-us:Current Student Registration for Winter and Spring Credit Classes
UID:5db6b1bbf5dc08aa1c0d81155d462708@www.dallascollege.edu
END:VEVENT
BEGIN:VEVENT
CATEGORIES:Category,Academic Calendar,Location,All Locations,Tag,Registration
DESCRIPTION:Current student registration (for returning students) will be available Monday, Oct. 20, through Sunday, Oct. 26. For more information, visit&amp;nbsp;DallasCollege.edu/Register.149302
DTSTAMP:20260422T181417
DTSTART;TZID=America/Chicago:20251022T000000
DTEND;TZID=America/Chicago:20251022T235900
LOCATION:All Locations
SUMMARY;LANGUAGE=en-us:Current Student Registration for Winter and Spring Credit Classes
UID:ac681fc1ad4568c8042ca72bd51de252@www.dallascollege.edu
END:VEVENT
BEGIN:VEVENT
CATEGORIES:Category,Academic Calendar,Location,All Locations,Tag,Registration
DESCRIPTION:Current student registration (for returning students) will be available Monday, Oct. 20, through Sunday, Oct. 26. For more information, visit&amp;nbsp;DallasCollege.edu/Register.149302
DTSTAMP:20260422T181417
DTSTART;TZID=America/Chicago:20251023T000000
DTEND;TZID=America/Chicago:20251023T235900
LOCATION:All Locations
SUMMARY;LANGUAGE=en-us:Current Student Registration for Winter and Spring Credit Classes
UID:cf32c31284a618b9a57e083464a9cd5b@www.dallascollege.edu
END:VEVENT
BEGIN:VEVENT
CATEGORIES:Category,Academic Calendar,Location,All Locations,Tag,Registration
DESCRIPTION:Current student registration (for returning students) will be available Monday, Oct. 20, through Sunday, Oct. 26. For more information, visit&amp;nbsp;DallasCollege.edu/Register.149302
DTSTAMP:20260422T181417
DTSTART;TZID=America/Chicago:20251024T000000
DTEND;TZID=America/Chicago:20251024T235900
LOCATION:All Locations
SUMMARY;LANGUAGE=en-us:Current Student Registration for Winter and Spring Credit Classes
UID:4779c111e8ec6f9c8efaae1a8baa6a4f@www.dallascollege.edu
END:VEVENT
BEGIN:VEVENT
CATEGORIES:Category,Academic Calendar,Location,All Locations,Tag,Registration
DESCRIPTION:Current student registration (for returning students) will be available Monday, Oct. 20, through Sunday, Oct. 26. For more information, visit&amp;nbsp;DallasCollege.edu/Register.149302
DTSTAMP:20260422T181417
DTSTART;TZID=America/Chicago:20251025T000000
DTEND;TZID=America/Chicago:20251025T235900
LOCATION:All Locations
SUMMARY;LANGUAGE=en-us:Current Student Registration for Winter and Spring Credit Classes
UID:ce0ff85351bbe44a8b8097091c5d8c26@www.dallascollege.edu
END:VEVENT
BEGIN:VEVENT
CATEGORIES:Category,Academic Calendar,Location,All Locations,Tag,Registration
DESCRIPTION:Current student registration (for returning students) will be available Monday, Oct. 20, through Sunday, Oct. 26. For more information, visit&amp;nbsp;DallasCollege.edu/Register.149302
DTSTAMP:20260422T181417
DTSTART;TZID=America/Chicago:20251026T000000
DTEND;TZID=America/Chicago:20251026T235900
LOCATION:All Locations
SUMMARY;LANGUAGE=en-us:Current Student Registration for Winter and Spring Credit Classes
UID:2b3d8803f2adb6a573e036d1768c6995@www.dallascollege.edu
END:VEVENT
END:VCALENDAR
