BEGIN:VCALENDAR
VERSION:2.0
X-WR-CALNAME:EventsCalendar
CALSCALE:GREGORIAN
BEGIN:VTIMEZONE
TZID:America/Chicago
LAST-MODIFIED:20231222T233358Z
TZURL:https://www.tzurl.org/zoneinfo-outlook/America/Chicago
X-LIC-LOCATION:America/Chicago
BEGIN:DAYLIGHT
TZNAME:CDT
TZOFFSETFROM:-0600
TZOFFSETTO:-0500
DTSTART:19700308T020000
RRULE:FREQ=YEARLY;BYMONTH=3;BYDAY=2SU
END:DAYLIGHT
BEGIN:STANDARD
TZNAME:CST
TZOFFSETFROM:-0500
TZOFFSETTO:-0600
DTSTART:19701101T020000
RRULE:FREQ=YEARLY;BYMONTH=11;BYDAY=1SU
END:STANDARD
END:VTIMEZONE
BEGIN:VEVENT
CATEGORIES:Category,Seminars and Speakers,Category,Student Life,Location,Richland,Tag,Trio
DESCRIPTION:Celebrate National First Gen Day by joining us to view &amp;ldquo;From First to Future,&amp;rdquo; a panel discussion featuring first-generation Dallas College students and alumni. Showings of this pre-recorded panel will be offered at 11 a.m. and noon. Hear real stories about campus life, support systems, mental health and transfer success. This event is hosted by TRIO Student Support Services and World Languages faculty in partnership with Support Programs. Come celebrate pride, connection and the first-gen journey!&amp;nbsp;Your story matters, and this is your moment to shine. Location: Richland Campus, Sabine Hall, Room 118149329
DTSTAMP:20260423T034635
DTSTART;TZID=America/Chicago:20251104T110000
DTEND;TZID=America/Chicago:20251104T120000
LOCATION:Richland
SUMMARY;LANGUAGE=en-us:‘From First to Future’ Panel Watch Party
UID:14718943cf7ac159659f8bf776bb1cd0@www.dallascollege.edu
END:VEVENT
BEGIN:VEVENT
CATEGORIES:Category,Seminars and Speakers,Category,Student Life,Location,Richland,Tag,Trio
DESCRIPTION:Celebrate National First Gen Day by joining us to view &amp;ldquo;From First to Future,&amp;rdquo; a panel discussion featuring first-generation Dallas College students and alumni. Showings of this pre-recorded panel will be offered at 11 a.m. and noon. Hear real stories about campus life, support systems, mental health and transfer success. This event is hosted by TRIO Student Support Services and World Languages faculty in partnership with Support Programs. Come celebrate pride, connection and the first-gen journey!&amp;nbsp;Your story matters, and this is your moment to shine. Location: Richland Campus, Sabine Hall, Room 118149329
DTSTAMP:20260423T034635
DTSTART;TZID=America/Chicago:20251104T120000
DTEND;TZID=America/Chicago:20251104T130000
LOCATION:Richland
SUMMARY;LANGUAGE=en-us:‘From First to Future’ Panel Watch Party
UID:a8dfb41d1793b7a711811efdc6e48214@www.dallascollege.edu
END:VEVENT
END:VCALENDAR
