BEGIN:VCALENDAR
VERSION:2.0
X-WR-CALNAME:EventsCalendar
CALSCALE:GREGORIAN
BEGIN:VTIMEZONE
TZID:America/Chicago
LAST-MODIFIED:20231222T233358Z
TZURL:https://www.tzurl.org/zoneinfo-outlook/America/Chicago
X-LIC-LOCATION:America/Chicago
BEGIN:DAYLIGHT
TZNAME:CDT
TZOFFSETFROM:-0600
TZOFFSETTO:-0500
DTSTART:19700308T020000
RRULE:FREQ=YEARLY;BYMONTH=3;BYDAY=2SU
END:DAYLIGHT
BEGIN:STANDARD
TZNAME:CST
TZOFFSETFROM:-0500
TZOFFSETTO:-0600
DTSTART:19701101T020000
RRULE:FREQ=YEARLY;BYMONTH=11;BYDAY=1SU
END:STANDARD
END:VTIMEZONE
BEGIN:VEVENT
CATEGORIES:Category,Other,Location,Workforce Center at RedBird,Tag,WorkReadyU
DESCRIPTION:Explore Your Future With WorkReadyU! Join a WorkReadyU Program Preview Session to learn about our upcoming Spring 2026 programs, including industry-recognized fast-track certificates, support services and funding opportunities. Education can be the door to your future &amp;mdash; and the entry-level experience gained through our fast-track certificates can be the key to unlocking it. Hear about programs across a variety of industries. Discover entry-level opportunities that support your growth. Learn about support services and financial resources. Attend in person at a Dallas College location Or join virtually via livestream. RSVP online&amp;nbsp;to select your preferred date and location. You&amp;rsquo;ll receive the in-person address or virtual link after registering.149687
DTSTAMP:20260422T201258
DTSTART;TZID=America/Chicago:20260129T133000
DTEND;TZID=America/Chicago:20260129T170000
LOCATION:Workforce Center at RedBird
SUMMARY;LANGUAGE=en-us:WorkReadyU Program Preview Session
UID:f4c3853b198ecf84be1df305ed9aeeaa@www.dallascollege.edu
END:VEVENT
BEGIN:VEVENT
CATEGORIES:Category,Other,Location,Workforce Center at RedBird,Tag,WorkReadyU
DESCRIPTION:Explore Your Future With WorkReadyU! Join a WorkReadyU Program Preview Session to learn about our upcoming Spring 2026 programs, including industry-recognized fast-track certificates, support services and funding opportunities. Education can be the door to your future &amp;mdash; and the entry-level experience gained through our fast-track certificates can be the key to unlocking it. Hear about programs across a variety of industries. Discover entry-level opportunities that support your growth. Learn about support services and financial resources. Attend in person at a Dallas College location Or join virtually via livestream. RSVP online&amp;nbsp;to select your preferred date and location. You&amp;rsquo;ll receive the in-person address or virtual link after registering.149687
DTSTAMP:20260422T201258
DTSTART;TZID=America/Chicago:20260226T133000
DTEND;TZID=America/Chicago:20260226T170000
LOCATION:Workforce Center at RedBird
SUMMARY;LANGUAGE=en-us:WorkReadyU Program Preview Session
UID:4bf4c37036f98e2be356e70709fddf66@www.dallascollege.edu
END:VEVENT
END:VCALENDAR
