BEGIN:VCALENDAR
VERSION:2.0
X-WR-CALNAME:EventsCalendar
CALSCALE:GREGORIAN
BEGIN:VTIMEZONE
TZID:America/Chicago
LAST-MODIFIED:20231222T233358Z
TZURL:https://www.tzurl.org/zoneinfo-outlook/America/Chicago
X-LIC-LOCATION:America/Chicago
BEGIN:DAYLIGHT
TZNAME:CDT
TZOFFSETFROM:-0600
TZOFFSETTO:-0500
DTSTART:19700308T020000
RRULE:FREQ=YEARLY;BYMONTH=3;BYDAY=2SU
END:DAYLIGHT
BEGIN:STANDARD
TZNAME:CST
TZOFFSETFROM:-0500
TZOFFSETTO:-0600
DTSTART:19701101T020000
RRULE:FREQ=YEARLY;BYMONTH=11;BYDAY=1SU
END:STANDARD
END:VTIMEZONE
BEGIN:VEVENT
CATEGORIES:Category,Seminars and Speakers,Location,All Seven Campuses,Tag,Learning Commons ,Tag,Student Resources
DESCRIPTION:Your student success plan is a tool you can use to communicate questions about grades and transfer plans, future classes and degrees. In this workshop, we&amp;rsquo;ll discuss how to continue the development of your success plan, add new goals and celebrate past achievements. Your student success plan will help you achieve the following objectives: Determine your goals and an action plan for academic success. Identify your strengths and areas of growth as a student. Use resources available to you as a Dallas College student. Stay connected with your success coach. We&amp;rsquo;ll have prizes and treats for everybody who participates! Register&amp;nbsp;today! Locations: Brookhaven - L376 Cedar Valley - C104 Eastfield - L208 El Centro - B209 Mountain View - W145 North Lake - L236 Richland - L126149696
DTSTAMP:20260422T181415
DTSTART;TZID=America/Chicago:20251117T110000
DTEND;TZID=America/Chicago:20251117T120000
LOCATION:All Seven Campuses
SUMMARY;LANGUAGE=en-us:Level Up Your College Journey - Continue Building Your Success Plan
UID:c7f083a27a894f16f36f1073b3385d86@www.dallascollege.edu
END:VEVENT
BEGIN:VEVENT
CATEGORIES:Category,Seminars and Speakers,Location,All Seven Campuses,Tag,Learning Commons ,Tag,Student Resources
DESCRIPTION:Your student success plan is a tool you can use to communicate questions about grades and transfer plans, future classes and degrees. In this workshop, we&amp;rsquo;ll discuss how to continue the development of your success plan, add new goals and celebrate past achievements. Your student success plan will help you achieve the following objectives: Determine your goals and an action plan for academic success. Identify your strengths and areas of growth as a student. Use resources available to you as a Dallas College student. Stay connected with your success coach. We&amp;rsquo;ll have prizes and treats for everybody who participates! Register&amp;nbsp;today! Locations: Brookhaven - L376 Cedar Valley - C104 Eastfield - L208 El Centro - B209 Mountain View - W145 North Lake - L236 Richland - L126149696
DTSTAMP:20260422T181415
DTSTART;TZID=America/Chicago:20251120T110000
DTEND;TZID=America/Chicago:20251120T120000
LOCATION:All Seven Campuses
SUMMARY;LANGUAGE=en-us:Level Up Your College Journey - Continue Building Your Success Plan
UID:1c897cb01d13951d96bbccb5532a272d@www.dallascollege.edu
END:VEVENT
BEGIN:VEVENT
CATEGORIES:Category,Seminars and Speakers,Location,All Seven Campuses,Tag,Learning Commons ,Tag,Student Resources
DESCRIPTION:Your student success plan is a tool you can use to communicate questions about grades and transfer plans, future classes and degrees. In this workshop, we&amp;rsquo;ll discuss how to continue the development of your success plan, add new goals and celebrate past achievements. Your student success plan will help you achieve the following objectives: Determine your goals and an action plan for academic success. Identify your strengths and areas of growth as a student. Use resources available to you as a Dallas College student. Stay connected with your success coach. We&amp;rsquo;ll have prizes and treats for everybody who participates! Register&amp;nbsp;today! Locations: Brookhaven - L376 Cedar Valley - C104 Eastfield - L208 El Centro - B209 Mountain View - W145 North Lake - L236 Richland - L126149696
DTSTAMP:20260422T181415
DTSTART;TZID=America/Chicago:20251120T180000
DTEND;TZID=America/Chicago:20251120T190000
LOCATION:All Seven Campuses
SUMMARY;LANGUAGE=en-us:Level Up Your College Journey - Continue Building Your Success Plan
UID:f1851633af354eb68c31ecfe53191ce1@www.dallascollege.edu
END:VEVENT
END:VCALENDAR
