BEGIN:VCALENDAR
VERSION:2.0
X-WR-CALNAME:EventsCalendar
CALSCALE:GREGORIAN
BEGIN:VTIMEZONE
TZID:America/Chicago
LAST-MODIFIED:20231222T233358Z
TZURL:https://www.tzurl.org/zoneinfo-outlook/America/Chicago
X-LIC-LOCATION:America/Chicago
BEGIN:DAYLIGHT
TZNAME:CDT
TZOFFSETFROM:-0600
TZOFFSETTO:-0500
DTSTART:19700308T020000
RRULE:FREQ=YEARLY;BYMONTH=3;BYDAY=2SU
END:DAYLIGHT
BEGIN:STANDARD
TZNAME:CST
TZOFFSETFROM:-0500
TZOFFSETTO:-0600
DTSTART:19701101T020000
RRULE:FREQ=YEARLY;BYMONTH=11;BYDAY=1SU
END:STANDARD
END:VTIMEZONE
BEGIN:VEVENT
CATEGORIES:Category,Seminars and Speakers,Category,Student Life,Location,North Lake
DESCRIPTION:Credit can open doors &amp;mdash; or close them. Join us to learn how credit really works, what affects your score and how to tackle debt without feeling overwhelmed.In this workshop, we&amp;rsquo;ll cover: The difference between &amp;ldquo;good&amp;rdquo; and &amp;ldquo;bad&amp;rdquo; debt Practical strategies to pay off debt Tips to improve your credit profile Walk away with the knowledge to get out of debt and build strong credit for your future! Location: North Lake Campus, Room L133149741
DTSTAMP:20260422T153216
DTSTART;TZID=America/Chicago:20251112T173000
DTEND;TZID=America/Chicago:20251112T190000
LOCATION:North Lake
SUMMARY;LANGUAGE=en-us:Credit Confidence and Debt Solutions Workshop
UID:e4b154cc3fe9473c2b4982ca966d0cf8@www.dallascollege.edu
END:VEVENT
END:VCALENDAR
