BEGIN:VCALENDAR
VERSION:2.0
X-WR-CALNAME:EventsCalendar
CALSCALE:GREGORIAN
BEGIN:VTIMEZONE
TZID:America/Chicago
LAST-MODIFIED:20231222T233358Z
TZURL:https://www.tzurl.org/zoneinfo-outlook/America/Chicago
X-LIC-LOCATION:America/Chicago
BEGIN:DAYLIGHT
TZNAME:CDT
TZOFFSETFROM:-0600
TZOFFSETTO:-0500
DTSTART:19700308T020000
RRULE:FREQ=YEARLY;BYMONTH=3;BYDAY=2SU
END:DAYLIGHT
BEGIN:STANDARD
TZNAME:CST
TZOFFSETFROM:-0500
TZOFFSETTO:-0600
DTSTART:19701101T020000
RRULE:FREQ=YEARLY;BYMONTH=11;BYDAY=1SU
END:STANDARD
END:VTIMEZONE
BEGIN:VEVENT
CATEGORIES:Category,Other,Location,Online,Tag,School of Health Sciences
DESCRIPTION:Have you ever thought about becoming a dental hygienist? Are you curious about the application process at Dallas College?Join us online to learn more about our in-demand Dental Hygiene program! During the event, we&#039;ll discuss the dental hygiene career, provide program information, discuss the application process and host a Q&amp;amp;A session. Join this virtual event on Microsoft Teams.149762
DTSTAMP:20260423T030446
DTSTART;TZID=America/Chicago:20251106T180000
DTEND;TZID=America/Chicago:20251106T190000
LOCATION:Online
SUMMARY;LANGUAGE=en-us:Dental Hygiene Live
UID:7526e0c2d7e59127dced83ac7d04d362@www.dallascollege.edu
END:VEVENT
END:VCALENDAR
