BEGIN:VCALENDAR
VERSION:2.0
X-WR-CALNAME:EventsCalendar
CALSCALE:GREGORIAN
BEGIN:VTIMEZONE
TZID:America/Chicago
LAST-MODIFIED:20231222T233358Z
TZURL:https://www.tzurl.org/zoneinfo-outlook/America/Chicago
X-LIC-LOCATION:America/Chicago
BEGIN:DAYLIGHT
TZNAME:CDT
TZOFFSETFROM:-0600
TZOFFSETTO:-0500
DTSTART:19700308T020000
RRULE:FREQ=YEARLY;BYMONTH=3;BYDAY=2SU
END:DAYLIGHT
BEGIN:STANDARD
TZNAME:CST
TZOFFSETFROM:-0500
TZOFFSETTO:-0600
DTSTART:19701101T020000
RRULE:FREQ=YEARLY;BYMONTH=11;BYDAY=1SU
END:STANDARD
END:VTIMEZONE
BEGIN:VEVENT
CATEGORIES:Category,Special Events,Location,Online
DESCRIPTION:Dallas College invites students and employees to celebrate National Distance Learning Week Nov. 3-7 with a week full of activities and resources, and a chance to win prizes! This year&amp;rsquo;s theme, &amp;ldquo;Connect to Thrive,&amp;rdquo; is all about building a caring online campus where you feel supported, connected and empowered. Visit the dedicated SharePoint pages for full event details and participation links: For Students: National Distance Learning Week For Employees: National Distance Learning Week149779
DTSTAMP:20260422T232900
DTSTART;TZID=America/Chicago:20251103T000000
DTEND;TZID=America/Chicago:20251103T235900
LOCATION:Online
SUMMARY;LANGUAGE=en-us:National Distance Learning Week
UID:2fda34b45593b5dff8bf992d4b36a9c7@www.dallascollege.edu
END:VEVENT
BEGIN:VEVENT
CATEGORIES:Category,Special Events,Location,Online
DESCRIPTION:Dallas College invites students and employees to celebrate National Distance Learning Week Nov. 3-7 with a week full of activities and resources, and a chance to win prizes! This year&amp;rsquo;s theme, &amp;ldquo;Connect to Thrive,&amp;rdquo; is all about building a caring online campus where you feel supported, connected and empowered. Visit the dedicated SharePoint pages for full event details and participation links: For Students: National Distance Learning Week For Employees: National Distance Learning Week149779
DTSTAMP:20260422T232900
DTSTART;TZID=America/Chicago:20251104T000000
DTEND;TZID=America/Chicago:20251104T235900
LOCATION:Online
SUMMARY;LANGUAGE=en-us:National Distance Learning Week
UID:0f7cbda19be3bccc84e4420afee6d8aa@www.dallascollege.edu
END:VEVENT
BEGIN:VEVENT
CATEGORIES:Category,Special Events,Location,Online
DESCRIPTION:Dallas College invites students and employees to celebrate National Distance Learning Week Nov. 3-7 with a week full of activities and resources, and a chance to win prizes! This year&amp;rsquo;s theme, &amp;ldquo;Connect to Thrive,&amp;rdquo; is all about building a caring online campus where you feel supported, connected and empowered. Visit the dedicated SharePoint pages for full event details and participation links: For Students: National Distance Learning Week For Employees: National Distance Learning Week149779
DTSTAMP:20260422T232900
DTSTART;TZID=America/Chicago:20251105T000000
DTEND;TZID=America/Chicago:20251105T235900
LOCATION:Online
SUMMARY;LANGUAGE=en-us:National Distance Learning Week
UID:eb3ab9a0618e2338a7306cc38d3fe42c@www.dallascollege.edu
END:VEVENT
BEGIN:VEVENT
CATEGORIES:Category,Special Events,Location,Online
DESCRIPTION:Dallas College invites students and employees to celebrate National Distance Learning Week Nov. 3-7 with a week full of activities and resources, and a chance to win prizes! This year&amp;rsquo;s theme, &amp;ldquo;Connect to Thrive,&amp;rdquo; is all about building a caring online campus where you feel supported, connected and empowered. Visit the dedicated SharePoint pages for full event details and participation links: For Students: National Distance Learning Week For Employees: National Distance Learning Week149779
DTSTAMP:20260422T232900
DTSTART;TZID=America/Chicago:20251106T000000
DTEND;TZID=America/Chicago:20251106T235900
LOCATION:Online
SUMMARY;LANGUAGE=en-us:National Distance Learning Week
UID:eddb911859362c4dc9fb9e62cac30a15@www.dallascollege.edu
END:VEVENT
BEGIN:VEVENT
CATEGORIES:Category,Special Events,Location,Online
DESCRIPTION:Dallas College invites students and employees to celebrate National Distance Learning Week Nov. 3-7 with a week full of activities and resources, and a chance to win prizes! This year&amp;rsquo;s theme, &amp;ldquo;Connect to Thrive,&amp;rdquo; is all about building a caring online campus where you feel supported, connected and empowered. Visit the dedicated SharePoint pages for full event details and participation links: For Students: National Distance Learning Week For Employees: National Distance Learning Week149779
DTSTAMP:20260422T232900
DTSTART;TZID=America/Chicago:20251107T000000
DTEND;TZID=America/Chicago:20251107T235900
LOCATION:Online
SUMMARY;LANGUAGE=en-us:National Distance Learning Week
UID:8bc20dbe8cf396cfa71c307136a9be19@www.dallascollege.edu
END:VEVENT
END:VCALENDAR
