BEGIN:VCALENDAR
VERSION:2.0
X-WR-CALNAME:EventsCalendar
CALSCALE:GREGORIAN
BEGIN:VTIMEZONE
TZID:America/Chicago
LAST-MODIFIED:20231222T233358Z
TZURL:https://www.tzurl.org/zoneinfo-outlook/America/Chicago
X-LIC-LOCATION:America/Chicago
BEGIN:DAYLIGHT
TZNAME:CDT
TZOFFSETFROM:-0600
TZOFFSETTO:-0500
DTSTART:19700308T020000
RRULE:FREQ=YEARLY;BYMONTH=3;BYDAY=2SU
END:DAYLIGHT
BEGIN:STANDARD
TZNAME:CST
TZOFFSETFROM:-0500
TZOFFSETTO:-0600
DTSTART:19701101T020000
RRULE:FREQ=YEARLY;BYMONTH=11;BYDAY=1SU
END:STANDARD
END:VTIMEZONE
BEGIN:VEVENT
CATEGORIES:Category,Arts and Culture,Location,Richland,Tag,Music
DESCRIPTION:Join us for an evening where passion meets performance. The Richland Jazz Ensemble invites you to explore the timeless sound of jazz&amp;mdash;rich harmonies, soulful solos, and the spirit of musical freedom. Location:&amp;nbsp;Richland Campus, Fannin Hall, Room F102 (Performance Hall)150332
DTSTAMP:20260422T181807
DTSTART;TZID=America/Chicago:20251119T193000
DTEND;TZID=America/Chicago:20251119T213000
LOCATION:Richland
SUMMARY;LANGUAGE=en-us:Richland Music Jazz Concert
UID:7e22b7bff53cc98ad2066335d0dec98d@www.dallascollege.edu
END:VEVENT
END:VCALENDAR
