BEGIN:VCALENDAR
VERSION:2.0
X-WR-CALNAME:EventsCalendar
CALSCALE:GREGORIAN
BEGIN:VTIMEZONE
TZID:America/Chicago
LAST-MODIFIED:20231222T233358Z
TZURL:https://www.tzurl.org/zoneinfo-outlook/America/Chicago
X-LIC-LOCATION:America/Chicago
BEGIN:DAYLIGHT
TZNAME:CDT
TZOFFSETFROM:-0600
TZOFFSETTO:-0500
DTSTART:19700308T020000
RRULE:FREQ=YEARLY;BYMONTH=3;BYDAY=2SU
END:DAYLIGHT
BEGIN:STANDARD
TZNAME:CST
TZOFFSETFROM:-0500
TZOFFSETTO:-0600
DTSTART:19701101T020000
RRULE:FREQ=YEARLY;BYMONTH=11;BYDAY=1SU
END:STANDARD
END:VTIMEZONE
BEGIN:VEVENT
CATEGORIES:Category,Arts and Culture,Location,Offsite,Tag,Events and Calendar
DESCRIPTION:Dallas College Fashion Marketing is partnering with The Bolton Arts Foundation to host&amp;nbsp;AKRIS: Fashion with a Heritage&amp;nbsp;at the Dallas Holocaust and Human Rights Museum on Wednesday, October 29, 2025, from 6 to 9 PM. Please RSVP by Wednesday at 12 PM to ensure you are on the VIP list for complimentary entry. 6:00&amp;ndash;7:00 PM&amp;nbsp;| Cocktail Reception 7:00 PM&amp;nbsp;| Film Screening&amp;nbsp; 8:15 PM&amp;nbsp;| Q&amp;amp;A CLICK HERE FOR REGISTRATION The Bolton Arts Foundation Presents:Fashion with a Heritage&amp;nbsp;by AKRISOctober 29th, 2025 | 6:00 PMDallas Holocaust and Human Rights Museum300 N. Houston Street, Dallas, TX 75202150448
DTSTAMP:20260422T232853
DTSTART;TZID=America/Chicago:20251029T180000
DTEND;TZID=America/Chicago:20251029T210000
LOCATION:Offsite
SUMMARY;LANGUAGE=en-us:AKRIS: Fashion with a Heritage
UID:77292ced1ea0fa3c8be1ca1cc62231b2@www.dallascollege.edu
END:VEVENT
END:VCALENDAR
