BEGIN:VCALENDAR
VERSION:2.0
X-WR-CALNAME:EventsCalendar
CALSCALE:GREGORIAN
BEGIN:VTIMEZONE
TZID:America/Chicago
LAST-MODIFIED:20231222T233358Z
TZURL:https://www.tzurl.org/zoneinfo-outlook/America/Chicago
X-LIC-LOCATION:America/Chicago
BEGIN:DAYLIGHT
TZNAME:CDT
TZOFFSETFROM:-0600
TZOFFSETTO:-0500
DTSTART:19700308T020000
RRULE:FREQ=YEARLY;BYMONTH=3;BYDAY=2SU
END:DAYLIGHT
BEGIN:STANDARD
TZNAME:CST
TZOFFSETFROM:-0500
TZOFFSETTO:-0600
DTSTART:19701101T020000
RRULE:FREQ=YEARLY;BYMONTH=11;BYDAY=1SU
END:STANDARD
END:VTIMEZONE
BEGIN:VEVENT
CATEGORIES:Category,Student Life,Location,Eastfield,Tag,Student Life
DESCRIPTION:Location:&amp;nbsp; Eastfield Campus: Lower Courtyard/The Hive Join us for Spirit Fest as we celebrate campus spirit, student individuality, and community connection! This week-long celebration is all about building momentum around college traditions through inclusive, fun, and engaging daily themes. We&amp;rsquo;ll have food, inflatables, music and carnival games. Join the fun on your campus or make the rounds and enjoy Spirit Fest at all seven campuses! Students and employees are welcome. Theme Days: Monday &amp;ndash; Jersey DayRep your favorite sports team&amp;mdash;college, pro, or intramural! Jerseys, team gear, or fan attire are all welcome. Tuesday &amp;ndash; Wacky Hat or Socks DayBring the laughs with your wildest hat or silliest socks. The more outrageous, the better! Wednesday &amp;ndash; Spaced Out DayGet cosmic with space-themed outfits! Think planets, aliens, UFOs, Buzz Lightyear, believers, nonbelievers, Men in Black, Star Wars, space pirates, space cowboys, Futurama, Space Jam, etc.. Thursday &amp;ndash; Holiday DayCelebrate your favorite holiday! From Halloween to Diwali to National Taco Day, dress to represent the festivities you love most. Friday &amp;ndash; Campus Spirit DayShow your Dallas College pride! Wear your campus colors and gear.&amp;nbsp; 150450
DTSTAMP:20260422T233020
DTSTART;TZID=America/Chicago:20251107T110000
DTEND;TZID=America/Chicago:20251107T140000
LOCATION:Eastfield
SUMMARY;LANGUAGE=en-us:Spirit Fest Club Carnival
UID:a88a470233e092f1d39687c533092fc5@www.dallascollege.edu
END:VEVENT
END:VCALENDAR
