BEGIN:VCALENDAR
VERSION:2.0
X-WR-CALNAME:EventsCalendar
CALSCALE:GREGORIAN
BEGIN:VTIMEZONE
TZID:America/Chicago
LAST-MODIFIED:20231222T233358Z
TZURL:https://www.tzurl.org/zoneinfo-outlook/America/Chicago
X-LIC-LOCATION:America/Chicago
BEGIN:DAYLIGHT
TZNAME:CDT
TZOFFSETFROM:-0600
TZOFFSETTO:-0500
DTSTART:19700308T020000
RRULE:FREQ=YEARLY;BYMONTH=3;BYDAY=2SU
END:DAYLIGHT
BEGIN:STANDARD
TZNAME:CST
TZOFFSETFROM:-0500
TZOFFSETTO:-0600
DTSTART:19701101T020000
RRULE:FREQ=YEARLY;BYMONTH=11;BYDAY=1SU
END:STANDARD
END:VTIMEZONE
BEGIN:VEVENT
CATEGORIES:Category,Career and Transfer,Location,Brookhaven,Tag,Transfer
DESCRIPTION:Come to the S Building (first floor) to experience: Instant decision and scholarship offers. Register for spring 2026 classes. Meet with faculty, advisors, and financial aid. Free giveaways and photo opportunities. Click Register Now or visit https://www.etamu.edu/qr/takeover/&amp;nbsp;150460
DTSTAMP:20260422T232908
DTSTART;TZID=America/Chicago:20251118T090000
DTEND;TZID=America/Chicago:20251118T120000
LOCATION:Brookhaven
SUMMARY;LANGUAGE=en-us:East Texas A&amp;M University Takeover - Brookhaven
UID:7cf9c2b9c1f8567effa98b4e8674799a@www.dallascollege.edu
END:VEVENT
END:VCALENDAR
