BEGIN:VCALENDAR
VERSION:2.0
X-WR-CALNAME:EventsCalendar
CALSCALE:GREGORIAN
BEGIN:VTIMEZONE
TZID:America/Chicago
LAST-MODIFIED:20231222T233358Z
TZURL:https://www.tzurl.org/zoneinfo-outlook/America/Chicago
X-LIC-LOCATION:America/Chicago
BEGIN:DAYLIGHT
TZNAME:CDT
TZOFFSETFROM:-0600
TZOFFSETTO:-0500
DTSTART:19700308T020000
RRULE:FREQ=YEARLY;BYMONTH=3;BYDAY=2SU
END:DAYLIGHT
BEGIN:STANDARD
TZNAME:CST
TZOFFSETFROM:-0500
TZOFFSETTO:-0600
DTSTART:19701101T020000
RRULE:FREQ=YEARLY;BYMONTH=11;BYDAY=1SU
END:STANDARD
END:VTIMEZONE
BEGIN:VEVENT
CATEGORIES:Category,Career and Transfer,Location,Richland,Tag,Transfer
DESCRIPTION:Come to Sabine Hall (first floor lobby) to experience: Instant decision and scholarship offers. Register for spring 2026 classes. Meet with faculty, advisors, and financial aid. Free giveaways and photo opportunities. Click Register Now or visit https://www.etamu.edu/qr/takeover/&amp;nbsp;150464
DTSTAMP:20260423T040632
DTSTART;TZID=America/Chicago:20251118T130000
DTEND;TZID=America/Chicago:20251118T160000
LOCATION:Richland
SUMMARY;LANGUAGE=en-us:East Texas A&amp;M University Takeover - Richland
UID:1d488617d35081aacc2409250139e114@www.dallascollege.edu
END:VEVENT
END:VCALENDAR
