BEGIN:VCALENDAR
VERSION:2.0
X-WR-CALNAME:EventsCalendar
CALSCALE:GREGORIAN
BEGIN:VTIMEZONE
TZID:America/Chicago
LAST-MODIFIED:20231222T233358Z
TZURL:https://www.tzurl.org/zoneinfo-outlook/America/Chicago
X-LIC-LOCATION:America/Chicago
BEGIN:DAYLIGHT
TZNAME:CDT
TZOFFSETFROM:-0600
TZOFFSETTO:-0500
DTSTART:19700308T020000
RRULE:FREQ=YEARLY;BYMONTH=3;BYDAY=2SU
END:DAYLIGHT
BEGIN:STANDARD
TZNAME:CST
TZOFFSETFROM:-0500
TZOFFSETTO:-0600
DTSTART:19701101T020000
RRULE:FREQ=YEARLY;BYMONTH=11;BYDAY=1SU
END:STANDARD
END:VTIMEZONE
BEGIN:VEVENT
CATEGORIES:Category,Board of Trustees,Location,Administrative Office,Tag,Board of Trustees
DESCRIPTION:The Board of Trustees will hold a regular meeting on Nov. 4, 2025. Meeting Location: Lower Level, Room #007 November 4, 2025 - Regular Meeting Agenda (PDF - 2MB) Watch live streaming of board meeting. View the Board of Trustee website. Agendas, captioned video, and transcripts for past Dallas College board meetings.150531
DTSTAMP:20260422T182534
DTSTART;TZID=America/Chicago:20251104T160000
DTEND;TZID=America/Chicago:20251104T163000
LOCATION:Administrative Office
SUMMARY;LANGUAGE=en-us:November 2025 Board Meeting - Regular Meeting
UID:8737f7507a6fddf1e8a161600907e6fb@www.dallascollege.edu
END:VEVENT
END:VCALENDAR
