BEGIN:VCALENDAR
VERSION:2.0
X-WR-CALNAME:EventsCalendar
CALSCALE:GREGORIAN
BEGIN:VTIMEZONE
TZID:America/Chicago
LAST-MODIFIED:20231222T233358Z
TZURL:https://www.tzurl.org/zoneinfo-outlook/America/Chicago
X-LIC-LOCATION:America/Chicago
BEGIN:DAYLIGHT
TZNAME:CDT
TZOFFSETFROM:-0600
TZOFFSETTO:-0500
DTSTART:19700308T020000
RRULE:FREQ=YEARLY;BYMONTH=3;BYDAY=2SU
END:DAYLIGHT
BEGIN:STANDARD
TZNAME:CST
TZOFFSETFROM:-0500
TZOFFSETTO:-0600
DTSTART:19701101T020000
RRULE:FREQ=YEARLY;BYMONTH=11;BYDAY=1SU
END:STANDARD
END:VTIMEZONE
BEGIN:VEVENT
CATEGORIES:Category,Arts and Culture,Location,Brookhaven,Tag,Music
DESCRIPTION:Spend your lunch break with beautiful music and warm hospitality at the Brookhaven Coffee Concert. The Brookhaven Treble Choir and String Ensemble will present an inspiring program in the elegant Performance Hall Lobby, where the acoustics and atmosphere create a truly memorable experience. Enjoy complimentary coffee as you relax and take in the artistry of our talented student musicians. Location:&amp;nbsp;Brookhaven Campus, Bldg. C, Room C200 (Performance Hall Lobby)150696
DTSTAMP:20260422T163506
DTSTART;TZID=America/Chicago:20251202T123000
DTEND;TZID=America/Chicago:20251202T133000
LOCATION:Brookhaven
SUMMARY;LANGUAGE=en-us:BHC Treble Choir &amp; String Ensemble Coffee Concert
UID:39c7b6d616148c47e397ba9e43bd35a6@www.dallascollege.edu
END:VEVENT
END:VCALENDAR
