BEGIN:VCALENDAR
VERSION:2.0
X-WR-CALNAME:EventsCalendar
CALSCALE:GREGORIAN
BEGIN:VTIMEZONE
TZID:America/Chicago
LAST-MODIFIED:20231222T233358Z
TZURL:https://www.tzurl.org/zoneinfo-outlook/America/Chicago
X-LIC-LOCATION:America/Chicago
BEGIN:DAYLIGHT
TZNAME:CDT
TZOFFSETFROM:-0600
TZOFFSETTO:-0500
DTSTART:19700308T020000
RRULE:FREQ=YEARLY;BYMONTH=3;BYDAY=2SU
END:DAYLIGHT
BEGIN:STANDARD
TZNAME:CST
TZOFFSETFROM:-0500
TZOFFSETTO:-0600
DTSTART:19701101T020000
RRULE:FREQ=YEARLY;BYMONTH=11;BYDAY=1SU
END:STANDARD
END:VTIMEZONE
BEGIN:VEVENT
CATEGORIES:Category,Arts and Culture,Location,Brookhaven,Tag,Music
DESCRIPTION:Take a break in the middle of your day with a special concert featuring the Brookhaven Music Faculty. Enjoy live performances in the beautiful Performance Hall Lobby while sipping free coffee and relaxing in a welcoming atmosphere. Join us for an hour of music, community, and refreshment &amp;mdash; the perfect way to brighten your afternoon. Location:&amp;nbsp;Brookhaven Campus, Bldg. C, Room C200 (Performance Hall Lobby)150734
DTSTAMP:20260422T181510
DTSTART;TZID=America/Chicago:20251112T123000
DTEND;TZID=America/Chicago:20251112T133000
LOCATION:Brookhaven
SUMMARY;LANGUAGE=en-us:Brookhaven Music Faculty Coffee Concert
UID:be12f0757e929beae1e4075c52d6eb3f@www.dallascollege.edu
END:VEVENT
END:VCALENDAR
