BEGIN:VCALENDAR
VERSION:2.0
X-WR-CALNAME:EventsCalendar
CALSCALE:GREGORIAN
BEGIN:VTIMEZONE
TZID:America/Chicago
LAST-MODIFIED:20231222T233358Z
TZURL:https://www.tzurl.org/zoneinfo-outlook/America/Chicago
X-LIC-LOCATION:America/Chicago
BEGIN:DAYLIGHT
TZNAME:CDT
TZOFFSETFROM:-0600
TZOFFSETTO:-0500
DTSTART:19700308T020000
RRULE:FREQ=YEARLY;BYMONTH=3;BYDAY=2SU
END:DAYLIGHT
BEGIN:STANDARD
TZNAME:CST
TZOFFSETFROM:-0500
TZOFFSETTO:-0600
DTSTART:19701101T020000
RRULE:FREQ=YEARLY;BYMONTH=11;BYDAY=1SU
END:STANDARD
END:VTIMEZONE
BEGIN:VEVENT
CATEGORIES:Category,Arts and Culture,Location,Brookhaven,Tag,Music
DESCRIPTION:Experience an Evening of Elegance with the Brookhaven Chamber String Ensemble Join us for a captivating performance by the Brookhaven Chamber String Ensemble, presented in the stunning lobby of our performance hall. Surrounded by beautiful architecture and an inviting atmosphere, guests will enjoy an intimate evening of exceptional musicianship and timeless chamber works. This special concert promises to blend artistry, ambiance, and community spirit for an unforgettable musical experience. Location:&amp;nbsp;Brookhaven Campus, Bldg. C, Room C200 (Performance Hall Lobby)150750
DTSTAMP:20260422T161644
DTSTART;TZID=America/Chicago:20251120T190000
DTEND;TZID=America/Chicago:20251120T210000
LOCATION:Brookhaven
SUMMARY;LANGUAGE=en-us:Brookhaven Chamber String Ensemble Concert
UID:dbb0cbfff0cc1b70332f8cfddb743260@www.dallascollege.edu
END:VEVENT
END:VCALENDAR
