BEGIN:VCALENDAR
VERSION:2.0
X-WR-CALNAME:EventsCalendar
CALSCALE:GREGORIAN
BEGIN:VTIMEZONE
TZID:America/Chicago
LAST-MODIFIED:20231222T233358Z
TZURL:https://www.tzurl.org/zoneinfo-outlook/America/Chicago
X-LIC-LOCATION:America/Chicago
BEGIN:DAYLIGHT
TZNAME:CDT
TZOFFSETFROM:-0600
TZOFFSETTO:-0500
DTSTART:19700308T020000
RRULE:FREQ=YEARLY;BYMONTH=3;BYDAY=2SU
END:DAYLIGHT
BEGIN:STANDARD
TZNAME:CST
TZOFFSETFROM:-0500
TZOFFSETTO:-0600
DTSTART:19701101T020000
RRULE:FREQ=YEARLY;BYMONTH=11;BYDAY=1SU
END:STANDARD
END:VTIMEZONE
BEGIN:VEVENT
CATEGORIES:Category,Special Events,Location,All Seven Campuses,Tag,Learning Commons 
DESCRIPTION:Let&amp;rsquo;s box up some kindness&amp;mdash;together.We&amp;rsquo;re inviting all students, faculty, and staff to support our campus community by donating nonperishable food items, gift cards, and monetary donations to the Dallas College Food Pantry. Every item helps fellow students and colleagues who may be facing food insecurity. Want to take it a step further?Join us for a hands-on volunteer event where we&amp;rsquo;ll team up to pack donation boxes filled with food and essentials. It&amp;rsquo;s a great way to connect, give back, and make a real difference right here on campus. Prefer to donate online? You can contribute through our Amazon Wish List for monetary donations. Participants are invited to drop in anytime the Learning Commons is open between Nov. 13 and Dec. 4 to send donations. Please visit the Learning Commons webpage for hours of operation. Our locations will be closed in observance of Thanksgiving weekend - Nov. 27-28. Locations: BH: L200 CV: C104 EF: L200 EC: B200 MV: W163 NL: L206 RL: L100 150796
DTSTAMP:20260422T202333
DTSTART;TZID=America/Chicago:20251113T000000
DTEND;TZID=America/Chicago:20251113T235900
LOCATION:All Seven Campuses
SUMMARY;LANGUAGE=en-us:Connected Through Our Stories: Pack the Pantry
UID:81a92649935de2d9a42ec22d40df730e@www.dallascollege.edu
END:VEVENT
END:VCALENDAR
