BEGIN:VCALENDAR
VERSION:2.0
X-WR-CALNAME:EventsCalendar
CALSCALE:GREGORIAN
BEGIN:VTIMEZONE
TZID:America/Chicago
LAST-MODIFIED:20231222T233358Z
TZURL:https://www.tzurl.org/zoneinfo-outlook/America/Chicago
X-LIC-LOCATION:America/Chicago
BEGIN:DAYLIGHT
TZNAME:CDT
TZOFFSETFROM:-0600
TZOFFSETTO:-0500
DTSTART:19700308T020000
RRULE:FREQ=YEARLY;BYMONTH=3;BYDAY=2SU
END:DAYLIGHT
BEGIN:STANDARD
TZNAME:CST
TZOFFSETFROM:-0500
TZOFFSETTO:-0600
DTSTART:19701101T020000
RRULE:FREQ=YEARLY;BYMONTH=11;BYDAY=1SU
END:STANDARD
END:VTIMEZONE
BEGIN:VEVENT
CATEGORIES:Category,Career and Transfer,Location,Richland,Tag,Transfer
DESCRIPTION:Sabine Hall, SH 118 Attendees will receive a $75 application fee waiver (new applicants only) Accelerated Online students are not eligible For questions about this event, contact us at utaadmissions@uta.edu&amp;nbsp;150815
DTSTAMP:20260422T200859
DTSTART;TZID=America/Chicago:20251112T100000
DTEND;TZID=America/Chicago:20251112T140000
LOCATION:Richland
SUMMARY;LANGUAGE=en-us:UTA is coming to you!
UID:2ad58b2ad9aac87aa2d8ff8cd868cfc3@www.dallascollege.edu
END:VEVENT
END:VCALENDAR
