BEGIN:VCALENDAR
VERSION:2.0
X-WR-CALNAME:EventsCalendar
CALSCALE:GREGORIAN
BEGIN:VTIMEZONE
TZID:America/Chicago
LAST-MODIFIED:20231222T233358Z
TZURL:https://www.tzurl.org/zoneinfo-outlook/America/Chicago
X-LIC-LOCATION:America/Chicago
BEGIN:DAYLIGHT
TZNAME:CDT
TZOFFSETFROM:-0600
TZOFFSETTO:-0500
DTSTART:19700308T020000
RRULE:FREQ=YEARLY;BYMONTH=3;BYDAY=2SU
END:DAYLIGHT
BEGIN:STANDARD
TZNAME:CST
TZOFFSETFROM:-0500
TZOFFSETTO:-0600
DTSTART:19701101T020000
RRULE:FREQ=YEARLY;BYMONTH=11;BYDAY=1SU
END:STANDARD
END:VTIMEZONE
BEGIN:VEVENT
CATEGORIES:Category,Special Events,Location,Eastfield,Tag,Learning Commons 
DESCRIPTION:Join us the day after submissions close as we celebrate the heartfelt contributions to the Letters to Elders initiative. December 3rd marks the final day to submit cards and letters, and on December 4th, we gather to honor the kindness and creativity shared by our community. Stop by the Learning Commons for light refreshments and a final moment of connection. Whether you participated or are simply curious, this event is a chance to reflect on the impact of your words and designs, which will soon bring joy to residents in local assisted living facilities. Let&amp;rsquo;s celebrate the power of compassion, creativity, and community. Come share a smile, make a memory, and help send off this initiative with warmth and gratitude. Location: EF - L200150848
DTSTAMP:20260422T140353
DTSTART;TZID=America/Chicago:20251204T110000
DTEND;TZID=America/Chicago:20251204T123000
LOCATION:Eastfield
SUMMARY;LANGUAGE=en-us:Connected Through Our Stories: Letters to Elders Celebration
UID:bd461ab241e45e2ca75ee8be3d80297f@www.dallascollege.edu
END:VEVENT
END:VCALENDAR
