BEGIN:VCALENDAR
VERSION:2.0
X-WR-CALNAME:EventsCalendar
CALSCALE:GREGORIAN
BEGIN:VTIMEZONE
TZID:America/Chicago
LAST-MODIFIED:20231222T233358Z
TZURL:https://www.tzurl.org/zoneinfo-outlook/America/Chicago
X-LIC-LOCATION:America/Chicago
BEGIN:DAYLIGHT
TZNAME:CDT
TZOFFSETFROM:-0600
TZOFFSETTO:-0500
DTSTART:19700308T020000
RRULE:FREQ=YEARLY;BYMONTH=3;BYDAY=2SU
END:DAYLIGHT
BEGIN:STANDARD
TZNAME:CST
TZOFFSETFROM:-0500
TZOFFSETTO:-0600
DTSTART:19701101T020000
RRULE:FREQ=YEARLY;BYMONTH=11;BYDAY=1SU
END:STANDARD
END:VTIMEZONE
BEGIN:VEVENT
CATEGORIES:Category,Other,Location,Pleasant Grove Center,Tag,Community Pantry Days,Tag,Drive-Thru Pantry Days
DESCRIPTION:In this workshop, reflect on how food contributes to physical, emotional and social well-being, and visualize your personal food wellness goals through creative expression. By the end of the session, you will be able to identify how food impacts your energy, mood and overall wellness and learn how the Dallas College food pantries can contribute to your goals.151042
DTSTAMP:20260422T182734
DTSTART;TZID=America/Chicago:20251107T100000
DTEND;TZID=America/Chicago:20251107T120000
LOCATION:Pleasant Grove Center
SUMMARY;LANGUAGE=en-us:Wellness Vision Board Workshop: Nourish Through Food
UID:981d3ffc5aa15abdc3d59c4bd7cdf137@www.dallascollege.edu
END:VEVENT
END:VCALENDAR
