BEGIN:VCALENDAR
VERSION:2.0
X-WR-CALNAME:EventsCalendar
CALSCALE:GREGORIAN
BEGIN:VTIMEZONE
TZID:America/Chicago
LAST-MODIFIED:20231222T233358Z
TZURL:https://www.tzurl.org/zoneinfo-outlook/America/Chicago
X-LIC-LOCATION:America/Chicago
BEGIN:DAYLIGHT
TZNAME:CDT
TZOFFSETFROM:-0600
TZOFFSETTO:-0500
DTSTART:19700308T020000
RRULE:FREQ=YEARLY;BYMONTH=3;BYDAY=2SU
END:DAYLIGHT
BEGIN:STANDARD
TZNAME:CST
TZOFFSETFROM:-0500
TZOFFSETTO:-0600
DTSTART:19701101T020000
RRULE:FREQ=YEARLY;BYMONTH=11;BYDAY=1SU
END:STANDARD
END:VTIMEZONE
BEGIN:VEVENT
CATEGORIES:Category,Sustainability,Location,Cedar Valley
DESCRIPTION:One Person, One Action, One Future: Building Sustainability Together Every action you take &amp;mdash; no matter how small &amp;mdash; has the potential to make a big difference. This year, our Sustainability Summit will span across the campuses and bring together students, faculty, staff and community members in a bold, unified mission &amp;mdash; to build a sustainable future. Register today to save a space. Explore workshops in topics like renewable energy, zero-waste living, urban gardening and eco-friendly innovations. Breakfast and lunch are included in your registration.Location: Cedar Valley Campus, Building N, Room N1051151045
DTSTAMP:20260422T124518
DTSTART;TZID=America/Chicago:20251203T080000
DTEND;TZID=America/Chicago:20251203T150000
LOCATION:Cedar Valley
SUMMARY;LANGUAGE=en-us:Reimagined: Dallas College Sustainability Summit
UID:6a2b1ae2f00c00957202d4e7ab05caae@www.dallascollege.edu
END:VEVENT
END:VCALENDAR
