BEGIN:VCALENDAR
VERSION:2.0
X-WR-CALNAME:EventsCalendar
CALSCALE:GREGORIAN
BEGIN:VTIMEZONE
TZID:America/Chicago
LAST-MODIFIED:20231222T233358Z
TZURL:https://www.tzurl.org/zoneinfo-outlook/America/Chicago
X-LIC-LOCATION:America/Chicago
BEGIN:DAYLIGHT
TZNAME:CDT
TZOFFSETFROM:-0600
TZOFFSETTO:-0500
DTSTART:19700308T020000
RRULE:FREQ=YEARLY;BYMONTH=3;BYDAY=2SU
END:DAYLIGHT
BEGIN:STANDARD
TZNAME:CST
TZOFFSETFROM:-0500
TZOFFSETTO:-0600
DTSTART:19701101T020000
RRULE:FREQ=YEARLY;BYMONTH=11;BYDAY=1SU
END:STANDARD
END:VTIMEZONE
BEGIN:VEVENT
CATEGORIES:Category,Other,Location,Pleasant Grove Center
DESCRIPTION:Make new connections in your community, explore free resources and take home a free box of food from the Dallas College Food Pantry! Connect with: Nonprofits offering resources and community support Workshops from Dallas College School of Health Sciences Join a workshop to learn about: &quot;Breathing Exercises To Ease Your Football and Holiday Shopping Anxieties&quot; &quot;Her Health, Her Power: Why Annual Checkups Matter&quot; 151259
DTSTAMP:20260423T011702
DTSTART;TZID=America/Chicago:20251121T100000
DTEND;TZID=America/Chicago:20251121T140000
LOCATION:Pleasant Grove Center
SUMMARY;LANGUAGE=en-us:Community Connections Resource and Health Skills Day
UID:c8fed51ca46ae60bcb4c3af569091b73@www.dallascollege.edu
END:VEVENT
END:VCALENDAR
