BEGIN:VCALENDAR
VERSION:2.0
X-WR-CALNAME:EventsCalendar
CALSCALE:GREGORIAN
BEGIN:VTIMEZONE
TZID:America/Chicago
LAST-MODIFIED:20231222T233358Z
TZURL:https://www.tzurl.org/zoneinfo-outlook/America/Chicago
X-LIC-LOCATION:America/Chicago
BEGIN:DAYLIGHT
TZNAME:CDT
TZOFFSETFROM:-0600
TZOFFSETTO:-0500
DTSTART:19700308T020000
RRULE:FREQ=YEARLY;BYMONTH=3;BYDAY=2SU
END:DAYLIGHT
BEGIN:STANDARD
TZNAME:CST
TZOFFSETFROM:-0500
TZOFFSETTO:-0600
DTSTART:19701101T020000
RRULE:FREQ=YEARLY;BYMONTH=11;BYDAY=1SU
END:STANDARD
END:VTIMEZONE
BEGIN:VEVENT
CATEGORIES:Category,Career Events/Job Fairs,Category,Other,Location,Brookhaven
DESCRIPTION:Step into the world of UX/UI design &amp;mdash; in just 3 hours (and it&amp;rsquo;s free!) Explore the exciting field of user experience through hands-on design activities, networking opportunities and a special raffle.Who Should Attend:Students curious about design, technology or creative problem-solving &amp;mdash; no prior experience required!Why Attend?&amp;bull; Participate in hands-on UX design activities&amp;bull; Learn from guest speaker Sandy Kong, UX designer&amp;bull; Connect with Dallas College faculty, students and design professionals&amp;bull; Enter to win a UX Design Kit&amp;bull; Discover how to enroll in the UX/UI Design certificate or Associate of Applied Science degree program Register today! Location: Brookhaven Campus, Room H125151261
DTSTAMP:20260422T182733
DTSTART;TZID=America/Chicago:20251118T170000
DTEND;TZID=America/Chicago:20251118T203000
LOCATION:Brookhaven
SUMMARY;LANGUAGE=en-us:UXperience: A Hands-On UX Workshop
UID:44e03ef4307a0a5f4f54b740e4a73b30@www.dallascollege.edu
END:VEVENT
END:VCALENDAR
