BEGIN:VCALENDAR
VERSION:2.0
X-WR-CALNAME:EventsCalendar
CALSCALE:GREGORIAN
BEGIN:VTIMEZONE
TZID:America/Chicago
LAST-MODIFIED:20231222T233358Z
TZURL:https://www.tzurl.org/zoneinfo-outlook/America/Chicago
X-LIC-LOCATION:America/Chicago
BEGIN:DAYLIGHT
TZNAME:CDT
TZOFFSETFROM:-0600
TZOFFSETTO:-0500
DTSTART:19700308T020000
RRULE:FREQ=YEARLY;BYMONTH=3;BYDAY=2SU
END:DAYLIGHT
BEGIN:STANDARD
TZNAME:CST
TZOFFSETFROM:-0500
TZOFFSETTO:-0600
DTSTART:19701101T020000
RRULE:FREQ=YEARLY;BYMONTH=11;BYDAY=1SU
END:STANDARD
END:VTIMEZONE
BEGIN:VEVENT
CATEGORIES:Category,Student Life,Location,All Seven Campuses,Tag,Learning Commons 
DESCRIPTION:Come reflect, recharge and review in the Learning Commons before finals! Drop by the Learning Commons for Study Jam. We offer tutoring services, workshops, stress-relief activities and quiet study areas both for groups and individuals. Let&#039;s get ready for those exams together! Locations, buildings and room numbers: Brookhaven - L200 Cedar Valley - C104 El Centro - B209 Eastfield - L200 Mountain View - W145 North Lake - L206 Richland - L100151348
DTSTAMP:20260420T012655
DTSTART;TZID=America/Chicago:20251201T100000
DTEND;TZID=America/Chicago:20251201T140000
LOCATION:All Seven Campuses
SUMMARY;LANGUAGE=en-us:Study Jam
UID:70394c3455bc9a6d3356ea0124f36fa2@www.dallascollege.edu
END:VEVENT
BEGIN:VEVENT
CATEGORIES:Category,Student Life,Location,All Seven Campuses,Tag,Learning Commons 
DESCRIPTION:Come reflect, recharge and review in the Learning Commons before finals! Drop by the Learning Commons for Study Jam. We offer tutoring services, workshops, stress-relief activities and quiet study areas both for groups and individuals. Let&#039;s get ready for those exams together! Locations, buildings and room numbers: Brookhaven - L200 Cedar Valley - C104 El Centro - B209 Eastfield - L200 Mountain View - W145 North Lake - L206 Richland - L100151348
DTSTAMP:20260420T012655
DTSTART;TZID=America/Chicago:20251202T100000
DTEND;TZID=America/Chicago:20251202T140000
LOCATION:All Seven Campuses
SUMMARY;LANGUAGE=en-us:Study Jam
UID:c0896f5ad3467944bae79346669ff056@www.dallascollege.edu
END:VEVENT
BEGIN:VEVENT
CATEGORIES:Category,Student Life,Location,All Seven Campuses,Tag,Learning Commons 
DESCRIPTION:Come reflect, recharge and review in the Learning Commons before finals! Drop by the Learning Commons for Study Jam. We offer tutoring services, workshops, stress-relief activities and quiet study areas both for groups and individuals. Let&#039;s get ready for those exams together! Locations, buildings and room numbers: Brookhaven - L200 Cedar Valley - C104 El Centro - B209 Eastfield - L200 Mountain View - W145 North Lake - L206 Richland - L100151348
DTSTAMP:20260420T012655
DTSTART;TZID=America/Chicago:20251203T100000
DTEND;TZID=America/Chicago:20251203T140000
LOCATION:All Seven Campuses
SUMMARY;LANGUAGE=en-us:Study Jam
UID:46ea91ef3967d44b74d963534bad6df3@www.dallascollege.edu
END:VEVENT
BEGIN:VEVENT
CATEGORIES:Category,Student Life,Location,All Seven Campuses,Tag,Learning Commons 
DESCRIPTION:Come reflect, recharge and review in the Learning Commons before finals! Drop by the Learning Commons for Study Jam. We offer tutoring services, workshops, stress-relief activities and quiet study areas both for groups and individuals. Let&#039;s get ready for those exams together! Locations, buildings and room numbers: Brookhaven - L200 Cedar Valley - C104 El Centro - B209 Eastfield - L200 Mountain View - W145 North Lake - L206 Richland - L100151348
DTSTAMP:20260420T012655
DTSTART;TZID=America/Chicago:20251204T100000
DTEND;TZID=America/Chicago:20251204T140000
LOCATION:All Seven Campuses
SUMMARY;LANGUAGE=en-us:Study Jam
UID:b08139117c44600f8cbd11018d38657f@www.dallascollege.edu
END:VEVENT
BEGIN:VEVENT
CATEGORIES:Category,Student Life,Location,All Seven Campuses,Tag,Learning Commons 
DESCRIPTION:Come reflect, recharge and review in the Learning Commons before finals! Drop by the Learning Commons for Study Jam. We offer tutoring services, workshops, stress-relief activities and quiet study areas both for groups and individuals. Let&#039;s get ready for those exams together! Locations, buildings and room numbers: Brookhaven - L200 Cedar Valley - C104 El Centro - B209 Eastfield - L200 Mountain View - W145 North Lake - L206 Richland - L100151348
DTSTAMP:20260420T012655
DTSTART;TZID=America/Chicago:20251205T100000
DTEND;TZID=America/Chicago:20251205T140000
LOCATION:All Seven Campuses
SUMMARY;LANGUAGE=en-us:Study Jam
UID:d74f13e829c10a3d3d272be1a618b098@www.dallascollege.edu
END:VEVENT
END:VCALENDAR
