BEGIN:VCALENDAR
VERSION:2.0
X-WR-CALNAME:EventsCalendar
CALSCALE:GREGORIAN
BEGIN:VTIMEZONE
TZID:America/Chicago
LAST-MODIFIED:20231222T233358Z
TZURL:https://www.tzurl.org/zoneinfo-outlook/America/Chicago
X-LIC-LOCATION:America/Chicago
BEGIN:DAYLIGHT
TZNAME:CDT
TZOFFSETFROM:-0600
TZOFFSETTO:-0500
DTSTART:19700308T020000
RRULE:FREQ=YEARLY;BYMONTH=3;BYDAY=2SU
END:DAYLIGHT
BEGIN:STANDARD
TZNAME:CST
TZOFFSETFROM:-0500
TZOFFSETTO:-0600
DTSTART:19701101T020000
RRULE:FREQ=YEARLY;BYMONTH=11;BYDAY=1SU
END:STANDARD
END:VTIMEZONE
BEGIN:VEVENT
CATEGORIES:Category,Student Life,Location,North Lake,Tag,Finals Week ,Tag,Health and Well-Being Events,Tag,North Lake,Tag,Student Life
DESCRIPTION:reFRESH FEST is a week of fun, relaxing activities designed to help students de-stress and recharge during finals. From calming tea and meditation sessions to coffee-fueled karaoke and creative cookie decorating, each day offers a chance to unwind, connect, and refocus. Take a break, you deserve it! reFRESH FESTRelax, Recharge, Refocus&amp;ldquo;You are the greatest project you will ever work on.&amp;rdquo;_____________________________________________________________&amp;nbsp;Monday, December 1, 2025Mellow Mondays - Tea, Relaxation, Meditation in partnership with Health Services and Promotion&amp;nbsp;Tuesday, December 2, 2025Espresso Self - Coffee, Cocoa, and Karaoke&amp;nbsp;Wednesday, December 3, 2025Cookies &amp;amp; Crafts &amp;ndash; Spacecrafts, Cookies and Pastries in partnership with Success Coaching and the CARE Team &amp;nbsp; Location: North Lake- H-200151375
DTSTAMP:20260422T182232
DTSTART;TZID=America/Chicago:20251201T110000
DTEND;TZID=America/Chicago:20251203T130000
LOCATION:North Lake
SUMMARY;LANGUAGE=en-us:Refresh Fest
UID:e604c23392d39e1c5f9c3f9e8ee582dd@www.dallascollege.edu
END:VEVENT
END:VCALENDAR
