BEGIN:VCALENDAR
VERSION:2.0
X-WR-CALNAME:EventsCalendar
CALSCALE:GREGORIAN
BEGIN:VTIMEZONE
TZID:America/Chicago
LAST-MODIFIED:20231222T233358Z
TZURL:https://www.tzurl.org/zoneinfo-outlook/America/Chicago
X-LIC-LOCATION:America/Chicago
BEGIN:DAYLIGHT
TZNAME:CDT
TZOFFSETFROM:-0600
TZOFFSETTO:-0500
DTSTART:19700308T020000
RRULE:FREQ=YEARLY;BYMONTH=3;BYDAY=2SU
END:DAYLIGHT
BEGIN:STANDARD
TZNAME:CST
TZOFFSETFROM:-0500
TZOFFSETTO:-0600
DTSTART:19701101T020000
RRULE:FREQ=YEARLY;BYMONTH=11;BYDAY=1SU
END:STANDARD
END:VTIMEZONE
BEGIN:VEVENT
CATEGORIES:Category,Student Life,Location,Mountain View,Tag,SPACE Events
DESCRIPTION:Hosted by SPACE in collaboration with Counseling &amp;amp; Psychological Services and Students Rights &amp;amp; Responsibility Office Location: Mountain View Campus &amp;ndash; Rooms S1029/S1030 Let&amp;rsquo;s get real! Join us for an Orbit Talk: Real Talk, Real People, a relaxed and welcoming space where students can open up about their experiences, share stories of resilience, and connect through honest, meaningful conversations. Whether you&amp;rsquo;re looking for inspiration, support, or just a chance to meet new people who get it, this event is all about growing together, academically, emotionally, socially, and personally. Come as you are, bring a friend, and enjoy some light refreshments while we talk, listen, and lift each other up.&amp;nbsp; All students are welcome, we can&amp;rsquo;t wait to see you there!151390
DTSTAMP:20260422T201037
DTSTART;TZID=America/Chicago:20251117T120000
DTEND;TZID=America/Chicago:20251117T140000
LOCATION:Mountain View
SUMMARY;LANGUAGE=en-us:SPACE: Orbit Talk: Real Talk, Real People
UID:2927035a996bf5f685e82d0f12baa54a@www.dallascollege.edu
END:VEVENT
END:VCALENDAR
