BEGIN:VCALENDAR
VERSION:2.0
X-WR-CALNAME:EventsCalendar
CALSCALE:GREGORIAN
BEGIN:VTIMEZONE
TZID:America/Chicago
LAST-MODIFIED:20231222T233358Z
TZURL:https://www.tzurl.org/zoneinfo-outlook/America/Chicago
X-LIC-LOCATION:America/Chicago
BEGIN:DAYLIGHT
TZNAME:CDT
TZOFFSETFROM:-0600
TZOFFSETTO:-0500
DTSTART:19700308T020000
RRULE:FREQ=YEARLY;BYMONTH=3;BYDAY=2SU
END:DAYLIGHT
BEGIN:STANDARD
TZNAME:CST
TZOFFSETFROM:-0500
TZOFFSETTO:-0600
DTSTART:19701101T020000
RRULE:FREQ=YEARLY;BYMONTH=11;BYDAY=1SU
END:STANDARD
END:VTIMEZONE
BEGIN:VEVENT
CATEGORIES:Category,Student Life,Location,Richland,Tag,SPACE Events
DESCRIPTION:Hosted by SPACE and featuring Counseling and Psychological Services (CAPS). Location: Richland Campus - Red River- Room 1213 Need a mindful pause? Grab your paintbrush and join us for Painted Harmony, a relaxing, creative experience designed to help you unwind and recharge. Learn painting techniques from the pros, receive helpful mental health insights from CAPS, connect with classmates, and take home your very own masterpiece. Bonus: The first 10 attendees will receive a special prize! Come as you are, get inspired, and enjoy a moment of calm, whether you&amp;rsquo;re joining in person or tuning in remotely.151394
DTSTAMP:20260422T161716
DTSTART;TZID=America/Chicago:20251118T100000
DTEND;TZID=America/Chicago:20251118T120000
LOCATION:Richland
SUMMARY;LANGUAGE=en-us:SPACE: Painted Harmony
UID:23fff8ede8048a9a1cafe76e9518c0f9@www.dallascollege.edu
END:VEVENT
END:VCALENDAR
