BEGIN:VCALENDAR
VERSION:2.0
X-WR-CALNAME:EventsCalendar
CALSCALE:GREGORIAN
BEGIN:VTIMEZONE
TZID:America/Chicago
LAST-MODIFIED:20231222T233358Z
TZURL:https://www.tzurl.org/zoneinfo-outlook/America/Chicago
X-LIC-LOCATION:America/Chicago
BEGIN:DAYLIGHT
TZNAME:CDT
TZOFFSETFROM:-0600
TZOFFSETTO:-0500
DTSTART:19700308T020000
RRULE:FREQ=YEARLY;BYMONTH=3;BYDAY=2SU
END:DAYLIGHT
BEGIN:STANDARD
TZNAME:CST
TZOFFSETFROM:-0500
TZOFFSETTO:-0600
DTSTART:19701101T020000
RRULE:FREQ=YEARLY;BYMONTH=11;BYDAY=1SU
END:STANDARD
END:VTIMEZONE
BEGIN:VEVENT
CATEGORIES:Category,Student Life,Location,Cedar Valley,Tag,SPACE Events
DESCRIPTION:An Orbit Talk presented by SPACE in collaboration with with Basic Needs and Real Talk. Location: Cedar Valley - D Building -D100 College is hard, and no one really tells you that part. Let&amp;rsquo;s talk about it. Join us for What I Wish I Knew, an Orbit Talk (think TED Talk&amp;ndash;style event) where speakers and students share real stories about navigating college life while facing financial, emotional, and housing challenges. This open and supportive space is all about connection, honesty, and growth, because your story matters, and someone else might need to hear it. *Real Stories brings the unseen experiences of college students to light through art and spoken word, creating space for honest conversations about homelessness and hope.&amp;nbsp;151399
DTSTAMP:20260422T182053
DTSTART;TZID=America/Chicago:20251120T103000
DTEND;TZID=America/Chicago:20251120T123000
LOCATION:Cedar Valley
SUMMARY;LANGUAGE=en-us:SPACE: What I Wish I Knew
UID:7fe87586e8e576295989809ccff13fb7@www.dallascollege.edu
END:VEVENT
END:VCALENDAR
