BEGIN:VCALENDAR
VERSION:2.0
X-WR-CALNAME:EventsCalendar
CALSCALE:GREGORIAN
BEGIN:VTIMEZONE
TZID:America/Chicago
LAST-MODIFIED:20231222T233358Z
TZURL:https://www.tzurl.org/zoneinfo-outlook/America/Chicago
X-LIC-LOCATION:America/Chicago
BEGIN:DAYLIGHT
TZNAME:CDT
TZOFFSETFROM:-0600
TZOFFSETTO:-0500
DTSTART:19700308T020000
RRULE:FREQ=YEARLY;BYMONTH=3;BYDAY=2SU
END:DAYLIGHT
BEGIN:STANDARD
TZNAME:CST
TZOFFSETFROM:-0500
TZOFFSETTO:-0600
DTSTART:19701101T020000
RRULE:FREQ=YEARLY;BYMONTH=11;BYDAY=1SU
END:STANDARD
END:VTIMEZONE
BEGIN:VEVENT
CATEGORIES:Category,Other,Location,Pleasant Grove Center,Tag,Community Pantry Days
DESCRIPTION:Dallas College is hosting a special Community Pantry Day on Saturday, Nov. 15. Anyone can stop by and pick up needed groceries, free of charge. Community members may also shop our clothing closets on Community Pantry Days. Available clothing items and the number of pieces you may take depend on each location&amp;rsquo;s current supply. Location: Pleasant Grove Center - First Floor, Room 102 For additional details, please visit our Drive-Thru and Community Pantry Days webpage.151439
DTSTAMP:20260422T233100
DTSTART;TZID=America/Chicago:20251115T090000
DTEND;TZID=America/Chicago:20251115T120000
LOCATION:Pleasant Grove Center
SUMMARY;LANGUAGE=en-us:Community Pantry Day
UID:ca8b30e81138e37918ceef5cff9b0f3d@www.dallascollege.edu
END:VEVENT
END:VCALENDAR
