BEGIN:VCALENDAR
VERSION:2.0
X-WR-CALNAME:EventsCalendar
CALSCALE:GREGORIAN
BEGIN:VTIMEZONE
TZID:America/Chicago
LAST-MODIFIED:20231222T233358Z
TZURL:https://www.tzurl.org/zoneinfo-outlook/America/Chicago
X-LIC-LOCATION:America/Chicago
BEGIN:DAYLIGHT
TZNAME:CDT
TZOFFSETFROM:-0600
TZOFFSETTO:-0500
DTSTART:19700308T020000
RRULE:FREQ=YEARLY;BYMONTH=3;BYDAY=2SU
END:DAYLIGHT
BEGIN:STANDARD
TZNAME:CST
TZOFFSETFROM:-0500
TZOFFSETTO:-0600
DTSTART:19701101T020000
RRULE:FREQ=YEARLY;BYMONTH=11;BYDAY=1SU
END:STANDARD
END:VTIMEZONE
BEGIN:VEVENT
CATEGORIES:Category,Other,Location,Downtown Health Sciences Center,Tag,School of Health Sciences
DESCRIPTION:Join us as we explore the Medical Assisting program at El Centro Campus. During the event, we will offer an information session, tour of the program space and a Q&amp;amp;A session with Dallas College staff. Please plan to be there approximately 15 minutes before the session begins to ensure you&#039;re able to hear the session and see the space. It is best to arrive no later than 4:30 p.m. Location: Downtown Health Sciences Center (Paramount Building) is at 301 N. Market St., Dallas, TX 75202. The Paramount Building is located down the street from the El Centro main campus. You will sign in at the front desk and take the elevator up to the 2nd floor. Please bring your photo ID to check in with building security. There is no free campus parking, but there are parking meters and lots around the Main building and the Paramount Building. Light refreshments will be served. 151442
DTSTAMP:20260423T023839
DTSTART;TZID=America/Chicago:20251120T170000
DTEND;TZID=America/Chicago:20251120T180000
LOCATION:Downtown Health Sciences Center
SUMMARY;LANGUAGE=en-us:Medical Assisting Open House
UID:d3e3e608c1b8737be2cad8a07eeb2294@www.dallascollege.edu
END:VEVENT
END:VCALENDAR
